BEGIN:VCALENDAR
VERSION:2.0
PRODID:-//wp-events-plugin.com//7.2.3.1//EN
TZID:America/North_Dakota/Center
X-WR-TIMEZONE:America/North_Dakota/Center
BEGIN:VEVENT
UID:541@nebraskashooters.com
DTSTART;TZID=America/North_Dakota/Center:20171202T080000
DTEND;TZID=America/North_Dakota/Center:20171202T163000
DTSTAMP:20171128T170859Z
URL:https://www.nebraskashooters.com/events/ccw-ogallala-12-2-17/
SUMMARY:CCW- Ogallala-12-2-17
DESCRIPTION:\n	Nebraska Concealed Handgun Training\n\n\n\n	instructed by Ji
 m McChesney and&nbsp\;Colten Chandler\n\n\n\n	This class is full.&nbsp\; P
 lease keep an eye on the calendar for the next scheduled class.&nbsp\; Tha
 nks!\n\n\n\n	This is the Nebraska Concealed Handgun Training course requir
 ed by the State of Nebraska to satisfy the training requirements to get yo
 ur Concealed Handgun Permit (CHP or CCW). After years of refinement our te
 am of instructors have developed a course that is easy for the new shooter
  to understand while still offering excellent information to the experienc
 ed shooters.&nbsp\;The Nebraska Conceal Handgun Training will meet require
 ments to get your Nebraska permit as well as your Florida or Arizona non-r
 esident permit. Nebraska&rsquo\;s permit will enable legal concealed carry
  in 34&nbsp\;states. &nbsp\;Check out our RECIPROCITY PAGE for more inform
 ation. This class will also meet the requirements for Iowa or Colorado res
 idents to get their concealed carry permit. This is a non-NRA course taugh
 t by an NRA Certified Instructor in strict accordance with a state-approve
 d lesson plan.\n\n\n\n	The&nbsp\;lessons concerning the safe handling of h
 andguns and shooting fundamentals is based on the material in the NRA Basi
 c Pistol course. If you are interested in obtaining the NRA Basic Pistol c
 ertification please let us know before class and we will take the addition
 al steps to meet the requirements at no extra charge. &nbsp\;The NRA certi
 fication will meet the prerequisites to take the Personal Protection in th
 e Home course as well as the NRA Defensive Pistol Course.\n\n\n\n	It is re
 commended that you bring 100 rounds of ammo and your favorite handgun with
  a dominant-side holster.&nbsp\; You will also need eye and hearing protec
 tion.&nbsp\; Upon receiving your permit\, you will not be restricted to ca
 rrying the handgun you brought to class.\n\n\n\n	Lunch will be provided so
  please notify us if you have any dietary restrictions so we can make othe
 r arrangements. &nbsp\;If you are interested in getting your Minnesota Non
 -Resident carry permit\, you also hae the opportunity to stick around afte
 r class and attend a short session to satisfy the Minnesota requirements f
 or training for only $20.\n\n\n\n	Guarantee:&nbsp\; Our Nebraska Concealed
  Handgun Training or &quot\;Concealed Carry&quot\;&nbsp\;course is guarant
 eed to cover all of the material required by the Nebraska State Patrol and
  more.&nbsp\; If you are unsure if your current certification is adequate 
 please feel free to attend our class and for free and trade in your certif
 icate. This will help to ensure that if your instructor loses their creden
 tials for failing to present the required material\, you will have a legit
 imate certificate.&nbsp\; Please feel free to bring a friend or send one t
 o a future class as a token of your appreciation.\n\n\n\n	We will need to 
 have at least 6 students signed up for this class so if you sign up and we
  do not meet our goal you will be refunded or given credit to take one of 
 our other classes. &nbsp\;If the goal is met and you opt to not show up\, 
 you will not be refunded\, but you will be given credit for another class.
 \n\n
ATTACH;FMTTYPE=image/jpeg:https://www.nebraskashooters.com/wp-content/uplo
 ads/2017/01/Nebraska-Shooters-PF-1-Billboard.jpg
CATEGORIES:Basic Pistol,Everything,Nebraska Concealed Handgun Training,NRA
 Student Courses,Ogallala,Panhandle
LOCATION:Ogallala Trap Club\, Ogallala Shooting Club\, Ogallala\, Nebraska\
 , 69153\, United States
GEO:41.1224873;-101.7108437
X-APPLE-STRUCTURED-LOCATION;VALUE=URI;X-ADDRESS=Ogallala Shooting Club\, Og
 allala\, Nebraska\, 69153\, United States;X-APPLE-RADIUS=100;X-TITLE=Ogall
 ala Trap Club:geo:41.1224873,-101.7108437
END:VEVENT
BEGIN:VTIMEZONE
TZID:America/North_Dakota/Center
X-LIC-LOCATION:America/North_Dakota/Center
BEGIN:STANDARD
DTSTART:20171105T010000
TZOFFSETFROM:-0500
TZOFFSETTO:-0600
TZNAME:CST
END:STANDARD
END:VTIMEZONE
END:VCALENDAR