BEGIN:VCALENDAR
VERSION:2.0
PRODID:-//wp-events-plugin.com//7.2.3.1//EN
TZID:America/North_Dakota/Center
X-WR-TIMEZONE:America/North_Dakota/Center
BEGIN:VEVENT
UID:519@nebraskashooters.com
DTSTART;TZID=America/North_Dakota/Center:20171022T080000
DTEND;TZID=America/North_Dakota/Center:20171022T163000
DTSTAMP:20170913T121628Z
URL:https://www.nebraskashooters.com/events/ccw-ogallala-10-22-17/
SUMMARY:CCW- Ogallala-10-22-17
DESCRIPTION:\n	Nebraska Concealed Handgun Training\n\n\n\n	instructed by Ji
 m McChesney and&nbsp\;Colten Chandler\n\n\n\n	This is the Nebraska Conceal
 ed Handgun Training course required by the State of Nebraska to satisfy th
 e training requirements to get your Concealed Handgun Permit (CHP or CCW).
  After years of refinement our team of instructors have developed a course
  that is easy for the new shooter to understand while still offering excel
 lent information to the experienced shooters.&nbsp\;The Nebraska Conceal H
 andgun Training will meet requirements to get your Nebraska permit as well
  as your Florida or Arizona non-resident permit. Nebraska&rsquo\;s permit 
 will enable legal concealed carry in 34&nbsp\;states. &nbsp\;Check out our
  RECIPROCITY PAGE for more information. This class will also meet the requ
 irements for Iowa or Colorado residents to get their concealed carry permi
 t. This is a non-NRA course taught by an NRA Certified Instructor in stric
 t accordance with a state-approved lesson plan.\n\n\n\n	The&nbsp\;lessons 
 concerning the safe handling of handguns and shooting fundamentals is base
 d on the material in the NRA Basic Pistol course. If you are interested in
  obtaining the NRA Basic Pistol certification please let us know before cl
 ass and we will take the additional steps to meet the requirements at no e
 xtra charge. &nbsp\;The NRA certification will meet the prerequisites to t
 ake the Personal Protection in the Home course as well as the NRA Defensiv
 e Pistol Course.\n\n\n\n	It is recommended that you bring 100 rounds of am
 mo and your favorite handgun with a dominant-side holster.&nbsp\; You will
  also need eye and hearing protection.&nbsp\; Upon receiving your permit\,
  you will not be restricted to carrying the handgun you brought to class.\
 n\n\n\n	Lunch will be provided so please notify us if you have any dietary
  restrictions so we can make other arrangements. &nbsp\;If you are interes
 ted in getting your Minnesota Non-Resident carry permit\, you also hae the
  opportunity to stick around after class and attend a short session to sat
 isfy the Minnesota requirements for training for only $20.\n\n\n\n	Guarant
 ee:&nbsp\; Our Nebraska Concealed Handgun Training or &quot\;Concealed Car
 ry&quot\;&nbsp\;course is guaranteed to cover all of the material required
  by the Nebraska State Patrol and more.&nbsp\; If you are unsure if your c
 urrent certification is adequate please feel free to attend our class and 
 for free and trade in your certificate. This will help to ensure that if y
 our instructor loses their credentials for failing to present the required
  material\, you will have a legitimate certificate.&nbsp\; Please feel fre
 e to bring a friend or send one to a future class as a token of your appre
 ciation.\n\n\n\n	We will need to have at least 6 students signed up for th
 is class so if you sign up and we do not meet our goal you will be refunde
 d or given credit to take one of our other classes. &nbsp\;If the goal is 
 met and you opt to not show up\, you will not be refunded\, but you will b
 e given credit for another class.\n\n
ATTACH;FMTTYPE=image/jpeg:https://www.nebraskashooters.com/wp-content/uplo
 ads/2017/01/Nebraska-Shooters-PF-1-Billboard.jpg
CATEGORIES:Basic Pistol,Everything,Nebraska Concealed Handgun Training,NRA
 Student Courses,Ogallala
LOCATION:Hidden Canyon Ranch\, 59R8+9W Keystone\, Ogallala\, Nebraska\, Uni
 ted States
GEO:41.191083;-101.631872
X-APPLE-STRUCTURED-LOCATION;VALUE=URI;X-ADDRESS=59R8+9W Keystone\, Ogallala
 \, Nebraska\, United States;X-APPLE-RADIUS=100;X-TITLE=Hidden Canyon Ranch
 :geo:41.191083,-101.631872
END:VEVENT
BEGIN:VTIMEZONE
TZID:America/North_Dakota/Center
X-LIC-LOCATION:America/North_Dakota/Center
BEGIN:DAYLIGHT
DTSTART:20170312T030000
TZOFFSETFROM:-0600
TZOFFSETTO:-0500
TZNAME:CDT
END:DAYLIGHT
END:VTIMEZONE
END:VCALENDAR