BEGIN:VCALENDAR
VERSION:2.0
PRODID:-//wp-events-plugin.com//7.2.3.1//EN
TZID:America/North_Dakota/Center
X-WR-TIMEZONE:America/North_Dakota/Center
BEGIN:VEVENT
UID:562@nebraskashooters.com
DTSTART;TZID=America/North_Dakota/Center:20180120T080000
DTEND;TZID=America/North_Dakota/Center:20180120T163000
DTSTAMP:20180224T193511Z
URL:https://www.nebraskashooters.com/events/ccw-ogallala-1-20-18/
SUMMARY:CCW- Ogallala-1-20-18
DESCRIPTION:Nebraska Concealed Handgun Training\ninstructed by Jim McChesne
 y\, Mike Mosel\, and&nbsp\;Colten Chandler\n\nWe need to get at least 8 pe
 ople for this class so once we have the minimum we will remove this note.&
 nbsp\; Until then\, please sign up knowing that if we do not get the minum
 um we may postpone the class and you will receive credit for a future clas
 s or a refund.&nbsp\; Thanks!\n\nThis is the Nebraska Concealed Handgun Tr
 aining course required by the State of Nebraska to satisfy the training re
 quirements to get your Concealed Handgun Permit (CHP or CCW). After years 
 of refinement our team of instructors have developed a course that is easy
  for the new shooter to understand while still offering excellent informat
 ion to the experienced shooters.&nbsp\;The Nebraska Conceal Handgun Traini
 ng will meet requirements to get your Nebraska permit as well as your Flor
 ida or Arizona non-resident permit. Nebraska’s permit will enable legal 
 concealed carry in 34&nbsp\;states. &nbsp\;Check out our RECIPROCITY PAGE 
 for more information. This class will also meet the requirements for Iowa 
 or Colorado residents to get their concealed carry permit. This is a non-N
 RA course taught by an NRA Certified Instructor in strict accordance with 
 a state-approved lesson plan.\n\nThe&nbsp\;lessons concerning the safe han
 dling of handguns and shooting fundamentals is based on the material in th
 e NRA Basic Pistol course. If you are interested in obtaining the NRA Basi
 c Pistol certification please let us know before class and we will take th
 e additional steps to meet the requirements at no extra charge. &nbsp\;The
  NRA certification will meet the prerequisites to take the Personal Protec
 tion in the Home course as well as the NRA Defensive Pistol Course.\n\nIt 
 is recommended that you bring 100 rounds of ammo and your favorite handgun
  with a dominant-side holster.&nbsp\; You will also need eye and hearing p
 rotection.&nbsp\; Upon receiving your permit\, you will not be restricted 
 to carrying the handgun you brought to class.\n\nLunch will be provided so
  please notify us if you have any dietary restrictions so we can make othe
 r arrangements. &nbsp\;If you are interested in getting your Minnesota Non
 -Resident carry permit\, you also hae the opportunity to stick around afte
 r class and attend a short session to satisfy the Minnesota requirements f
 or training for only $20.\n\nGuarantee:&nbsp\; Our Nebraska Concealed Hand
 gun Training or "Concealed Carry"&nbsp\;course is guaranteed to cover all 
 of the material required by the Nebraska State Patrol and more.&nbsp\; If 
 you are unsure if your current certification is adequate please feel free 
 to attend our class and for free and trade in your certificate. This will 
 help to ensure that if your instructor loses their credentials for failing
  to present the required material\, you will have a legitimate certificate
 .&nbsp\; Please feel free to bring a friend or send one to a future class 
 as a token of your appreciation.\n\nWe will need to have at least 6 studen
 ts signed up for this class so if you sign up and we do not meet our goal 
 you will be refunded or given credit to take one of our other classes. &nb
 sp\;If the goal is met and you opt to not show up\, you will not be refund
 ed\, but you will be given credit for another class.
ATTACH;FMTTYPE=image/jpeg:https://www.nebraskashooters.com/wp-content/uplo
 ads/2017/01/Nebraska-Shooters-PF-1-Billboard.jpg
CATEGORIES:Basic Pistol,Everything,Nebraska Concealed Handgun Training,NRA
 Student Courses,Ogallala,Panhandle
LOCATION:Ogallala Trap Club\, Ogallala Shooting Club\, Ogallala\, Nebraska\
 , 69153\, United States
GEO:41.1224873;-101.7108437
X-APPLE-STRUCTURED-LOCATION;VALUE=URI;X-ADDRESS=Ogallala Shooting Club\, Og
 allala\, Nebraska\, 69153\, United States;X-APPLE-RADIUS=100;X-TITLE=Ogall
 ala Trap Club:geo:41.1224873,-101.7108437
END:VEVENT
BEGIN:VTIMEZONE
TZID:America/North_Dakota/Center
X-LIC-LOCATION:America/North_Dakota/Center
BEGIN:STANDARD
DTSTART:20171105T010000
TZOFFSETFROM:-0500
TZOFFSETTO:-0600
TZNAME:CST
END:STANDARD
END:VTIMEZONE
END:VCALENDAR