BEGIN:VCALENDAR
VERSION:2.0
PRODID:-//wp-events-plugin.com//7.2.3.1//EN
TZID:America/North_Dakota/Center
X-WR-TIMEZONE:America/North_Dakota/Center
BEGIN:VEVENT
UID:736@nebraskashooters.com
DTSTART;TZID=America/North_Dakota/Center:20190104T160000
DTEND;TZID=America/North_Dakota/Center:20190105T120000
DTSTAMP:20190108T142446Z
URL:https://www.nebraskashooters.com/events/ccw-lincoln-1-4-19/
SUMMARY:CCW- Lincoln 1-4-19
DESCRIPTION:This Nebraska Concealed Handgun Training\nInstructed by Terry L
 ane Fitzgerald\nLocation: 6508 Tanglewood Lane - Lincoln\, NE\nThis is th
 e course required by the State of Nebraska to satisfy the training require
 ments to get your Concealed Handgun Permit (CHP). After years of refinemen
 t our instructors have developed a course that is easy for the new shooter
  to understand while still offering excellent information to the experienc
 ed shooters. The Nebraska Conceal Handgun Training will meet requirements
  to get your Nebraska permit. Nebraska’s permit will enable legal concea
 led carry in 34 states.  Check out the reciprocity page for more details
 . This class will also meet the requirements for Iowa or Colorado resident
 s to get their concealed carry permit. This is a non-NRA course taught by 
 an NRA Certified Instructor in strict accordance with a state-approved les
 son plan.\n\nIt is required that you bring 100 rounds of ammo and your fav
 orite handgun with a dominant-side holster  If you need to borrow a handg
 un and holster\, we can provide you with the equipment and you will just n
 eed to pay for the ammunition.  You will also need eye and hearing protec
 tion.  Also\, please bring a billed cap and no low cut shirts to catch h
 ot brass.\n\nWe are also offering an optional Minnesota Non-Resident add-
 on course after class if anyone is interested.  This is approximately 1 
 hour and the cost is $20.\n\nGuarantee: As many of you know\, there are i
 nstructors in Nebraska who are offering a quickie course which does not co
 ver the required material.  Our classes are guaranteed to cover the requi
 red material so there is no risk of you losing your permit due to inadequa
 te training. This also ensures that you have been introduced to the legal 
 responsibilities of carrying a firearm for self defense which could easily
  save you a lot of trouble and hopefully keep you out of court.\n\n&nbsp\;
ATTACH;FMTTYPE=image/jpeg:https://www.nebraskashooters.com/wp-content/uplo
 ads/2018/07/ComeSeeNS.jpg
CATEGORIES:Everything,Minnesota,Nebraska Concealed Handgun
 Training,Nebraska Shooters Range,Southeast
LOCATION:Terry Lanes Hideout\, 6508 Tanglewood Lane\, Lincoln\, Ne\, 68516\
 , 1\, United States
GEO:40.7595093;-96.63251839999998
X-APPLE-STRUCTURED-LOCATION;VALUE=URI;X-ADDRESS=6508 Tanglewood Lane\, Linc
 oln\, Ne\, 68516\, 1\, United States;X-APPLE-RADIUS=100;X-TITLE=Terry Lane
 s Hideout:geo:40.7595093,-96.63251839999998
END:VEVENT
BEGIN:VTIMEZONE
TZID:America/North_Dakota/Center
X-LIC-LOCATION:America/North_Dakota/Center
BEGIN:STANDARD
DTSTART:20181104T010000
TZOFFSETFROM:-0500
TZOFFSETTO:-0600
TZNAME:CST
END:STANDARD
END:VTIMEZONE
END:VCALENDAR