BEGIN:VCALENDAR
VERSION:2.0
PRODID:-//wp-events-plugin.com//7.2.3.1//EN
TZID:America/North_Dakota/Center
X-WR-TIMEZONE:America/North_Dakota/Center
BEGIN:VEVENT
UID:561@nebraskashooters.com
DTSTART;TZID=America/North_Dakota/Center:20171220T170000
DTEND;TZID=America/North_Dakota/Center:20171220T233000
DTSTAMP:20181004T003115Z
URL:https://www.nebraskashooters.com/events/ccw-kearney-12-20-17/
SUMMARY:CCW- Kearney-12-20-17
DESCRIPTION:This Nebraska Concealed Handgun Training will be instructed by
  Shane Roach. This is the course required by the State of Nebraska to sat
 isfy the training requirements to get your Concealed Handgun Permit (CHP).
  After years of refinement our instructors have developed a course that is
  easy for the new shooter to understand while still offering excellent inf
 ormation to the experienced shooters. The Nebraska Conceal Handgun Traini
 ng will meet requirements to get your Nebraska permit. Nebraska’s permit
  will enable legal concealed carry in 34 states.  Check out the reciproc
 ity page for more details. This class will also meet the requirements for 
 Iowa or Colorado residents to get their concealed carry permit. This is a 
 non-NRA course taught by an NRA Certified Instructor in strict accordance 
 with a state-approved lesson plan.  This is a fun and informational class
  and we can accomodate everyone from the brand new shooter to the competit
 ion shooter.  If you need to borrow a gun\, just let us know ahead of tim
 e.\nWe also offer the option to add the Minnesota training at the end of c
 lass for only $20.\n\nIt is required that you bring 100 rounds of ammo and
  your favorite handgun with a dominant-side holster  If you need to borro
 w a handgun and holster\, we can provide you with the equipment and you wi
 ll just need to pay for the ammunition.  You will also need eye and heari
 ng protection. Bring a sack lunch.  (Remember\, there are no restaurants
  nearby).\n\nGuarantee: As many of you know\, there are instructors in Ne
 braska who are offering a quickie course which does not cover the required
  material.  Our classes are guaranteed to cover the required material so 
 there is no risk of you losing your permit due to inadequate training. Thi
 s also ensures that you have been introduced to the legal responsibilities
  of carrying a firearm for self defense which could easily save you a lot 
 of trouble and hopefully keep you out of court.\n\nCaution: Sometimes goog
 le doesn't get the address right so here's a link to the map view through 
 Google.   \n\nHere's a link to the street view of the range.
ATTACH;FMTTYPE=image/jpeg:https://www.nebraskashooters.com/wp-content/uplo
 ads/2017/02/Gothenburg-NE-Nebraska-Barn-and-Grill-Smaller.jpg
CATEGORIES:Everything,Nebraska Concealed Handgun Training
LOCATION:Gibbon/Kearney\, P3C2+X3\, Kearney\, Nebraska\, United States
GEO:40.7224375;-98.94981250000001
X-APPLE-STRUCTURED-LOCATION;VALUE=URI;X-ADDRESS=P3C2+X3\, Kearney\, Nebrask
 a\, United States;X-APPLE-RADIUS=100;X-TITLE=Gibbon/Kearney:geo:40.7224375
 ,-98.94981250000001
END:VEVENT
BEGIN:VTIMEZONE
TZID:America/North_Dakota/Center
X-LIC-LOCATION:America/North_Dakota/Center
BEGIN:STANDARD
DTSTART:20171105T010000
TZOFFSETFROM:-0500
TZOFFSETTO:-0600
TZNAME:CST
END:STANDARD
END:VTIMEZONE
END:VCALENDAR