BEGIN:VCALENDAR
VERSION:2.0
PRODID:-//wp-events-plugin.com//7.2.3.1//EN
TZID:America/North_Dakota/Center
X-WR-TIMEZONE:America/North_Dakota/Center
BEGIN:VEVENT
UID:527@nebraskashooters.com
DTSTART;TZID=America/North_Dakota/Center:20171025T170000
DTEND;TZID=America/North_Dakota/Center:20171025T233000
DTSTAMP:20171011T152127Z
URL:https://www.nebraskashooters.com/events/ccw-kearney-10-25-17/
SUMMARY:CCW- Kearney-10-25-17
DESCRIPTION:\n	This Nebraska Concealed Handgun Training&nbsp\;will be instr
 ucted by&nbsp\;Shane Roach. This is the course required by the State of Ne
 braska to satisfy the training requirements to get your Concealed Handgun 
 Permit (CHP). After years of refinement our instructors have developed a c
 ourse that is easy for the new shooter to understand while still offering 
 excellent information to the experienced shooters.&nbsp\;The Nebraska Conc
 eal Handgun Training will meet requirements to get your Nebraska permit. N
 ebraska&rsquo\;s permit will enable legal concealed carry in 34&nbsp\;stat
 es. &nbsp\;Check out the reciprocity page for more details. This class wil
 l also meet the requirements for Iowa or Colorado residents to get their c
 oncealed carry permit. This is a non-NRA course taught by an NRA Certified
  Instructor in strict accordance with a state-approved lesson plan. &nbsp\
 ;This is a fun and informational class and we can accomodate everyone from
  the brand new shooter to the competition shooter. &nbsp\;If you need to b
 orrow a gun\, just let us know ahead of time.\n	We also offer the option t
 o add the Minnesota training at the end of class for only $20. &nbsp\;\n\n
 \n\n	It is required that you bring 100 rounds of ammo and your favorite ha
 ndgun with a dominant-side holster &nbsp\;If you need to borrow a handgun 
 and holster\, we can provide you with the equipment and you will just need
  to pay for the ammunition.&nbsp\; You will also need eye and hearing prot
 ection. Bring a sack lunch.&nbsp\; (Remember\, there are no&nbsp\;restaura
 nts&nbsp\;nearby).\n\n\n\n	Guarantee: As many of you know\, there are inst
 ructors in Nebraska who are offering a quickie course which does not cover
  the required material. &nbsp\;Our classes are guaranteed to cover the req
 uired material so there is no risk of you losing your permit due to inadeq
 uate training. This also ensures that you have been introduced to the lega
 l responsibilities of carrying a firearm for self defense which could easi
 ly save you a lot of trouble and hopefully keep you out of court.\n\n\n\n	
 Caution: Sometimes google doesn&#39\;t get the address right so here&#39\;
 s a link to the map view through Google. &nbsp\; \n\n\n\n	Here&#39\;s a li
 nk to the street view of the range.\n\n
ATTACH;FMTTYPE=image/jpeg:https://www.nebraskashooters.com/wp-content/uplo
 ads/2017/02/Gothenburg-NE-Nebraska-Barn-and-Grill-Smaller.jpg
CATEGORIES:Everything,Nebraska Concealed Handgun Training
LOCATION:Gibbon/Kearney\, P3C2+X3\, Kearney\, Nebraska\, United States
GEO:40.7224375;-98.94981250000001
X-APPLE-STRUCTURED-LOCATION;VALUE=URI;X-ADDRESS=P3C2+X3\, Kearney\, Nebrask
 a\, United States;X-APPLE-RADIUS=100;X-TITLE=Gibbon/Kearney:geo:40.7224375
 ,-98.94981250000001
END:VEVENT
BEGIN:VTIMEZONE
TZID:America/North_Dakota/Center
X-LIC-LOCATION:America/North_Dakota/Center
BEGIN:DAYLIGHT
DTSTART:20170312T030000
TZOFFSETFROM:-0600
TZOFFSETTO:-0500
TZNAME:CDT
END:DAYLIGHT
END:VTIMEZONE
END:VCALENDAR