BEGIN:VCALENDAR
VERSION:2.0
PRODID:-//wp-events-plugin.com//7.2.3.1//EN
TZID:America/North_Dakota/Center
X-WR-TIMEZONE:America/North_Dakota/Center
BEGIN:VEVENT
UID:785@nebraskashooters.com
DTSTART;TZID=America/Denver:20190406T090000
DTEND;TZID=America/Denver:20190406T180000
DTSTAMP:20190226T195754Z
URL:https://www.nebraskashooters.com/events/ccw-gering-4-6-19/
SUMMARY:CCW-Gering-4-6-19
DESCRIPTION:Nebraska Concealed Handgun Training\nInstructed by Dustin and R
 enee Thomas.\n\nThis is the course required by the State of Nebraska to sa
 tisfy the training requirements to get your Concealed Handgun Permit (CHP)
 . After years of refinement our instructors have developed a course that i
 s easy for the new shooter to understand while still offering excellent in
 formation to the experienced shooters. The Nebraska Conceal Handgun Traini
 ng will meet requirements to get your Nebraska permit. Nebraska’s permit
  will enable legal concealed carry in 35 states.  Check out the reciproci
 ty page for more details. This class will also meet the requirements for I
 owa or Colorado residents to get their concealed carry permit. This is a n
 on-NRA course taught by an NRA Certified Instructor in strict accordance w
 ith a state-approved lesson plan. Feel free to contact Renee Thomas for mo
 re information at (308)249-1612.\n\nIt is required that you bring 100 roun
 ds of ammo and your favorite handgun with a dominant-side holster  If you
  need to borrow a handgun and holster\, we can provide you with the equipm
 ent and you will just need to pay for the ammunition.  You will also need
  eye and hearing protection.  \n\nYou also have the option of sticking a
 round to get your Minnesota Non-Resident training for an extra $20.  This
  training is recognized by the State of Minnesota when applying for your M
 innesota Carry Permit. This permit will allow you to carry concealed or op
 en when traveling through the state of Minnesota. The Minnesota curriculum
  requires our Nebraska Concealed Handgun course in order to obtain the ful
 l course.\n\nGuarantee: As many of you know\, there are instructors in Neb
 raska who are offering a quickie course which does not cover the required 
 material.  Our classes are guaranteed to cover the required material so t
 here is no risk of you losing your permit due to inadequate training. This
  also ensures that you have been introduced to the legal responsibilities 
 of carrying a firearm for self defense which could easily save you a lot o
 f trouble and hopefully keep you out of court.\n\n&nbsp\;
ATTACH;FMTTYPE=image/jpeg:https://www.nebraskashooters.com/wp-content/uplo
 ads/2018/07/ComeSeeNS.jpg
CATEGORIES:Everything,Gering,Minnesota,Nebraska Concealed Handgun
 Training,Panhandle,Scottsbluff
LOCATION:Sure Shot Gun Range\,  1346 10th St\, Gering\, Nebraska\, 69341\, 
 United States
GEO:41.82239999999999;-103.65999999999997
X-APPLE-STRUCTURED-LOCATION;VALUE=URI;X-ADDRESS= 1346 10th St\, Gering\, Ne
 braska\, 69341\, United States;X-APPLE-RADIUS=100;X-TITLE=Sure Shot Gun Ra
 nge:geo:41.82239999999999,-103.65999999999997
END:VEVENT
BEGIN:VTIMEZONE
TZID:America/Denver
X-LIC-LOCATION:America/Denver
BEGIN:DAYLIGHT
DTSTART:20190310T030000
TZOFFSETFROM:-0700
TZOFFSETTO:-0600
TZNAME:MDT
END:DAYLIGHT
END:VTIMEZONE
END:VCALENDAR