BEGIN:VCALENDAR
VERSION:2.0
PRODID:-//wp-events-plugin.com//7.2.3.1//EN
TZID:America/North_Dakota/Center
X-WR-TIMEZONE:America/North_Dakota/Center
BEGIN:VEVENT
UID:764@nebraskashooters.com
DTSTART;TZID=America/Denver:20190216T090000
DTEND;TZID=America/Denver:20190216T180000
DTSTAMP:20190116T125201Z
URL:https://www.nebraskashooters.com/events/ccw-gering-2-16-19/
SUMMARY:CCW-Gering-2-16-19
DESCRIPTION:Nebraska Concealed Handgun Training\nInstructed by Dustin and R
 enee Thomas.\n\nThis is the course required by the State of Nebraska to sa
 tisfy the training requirements to get your Concealed Handgun Permit (CHP)
 . After years of refinement our instructors have developed a course that i
 s easy for the new shooter to understand while still offering excellent in
 formation to the experienced shooters. The Nebraska Conceal Handgun Train
 ing will meet requirements to get your Nebraska permit. Nebraska’s permi
 t will enable legal concealed carry in 34 states.  Check out the recipro
 city page for more details. This class will also meet the requirements for
  Iowa or Colorado residents to get their concealed carry permit. This is a
  non-NRA course taught by an NRA Certified Instructor in strict accordance
  with a state-approved lesson plan. Feel free to contact Renee Thomas for 
 more information at (308)249-1612.\n\nIt is required that you bring 100 ro
 unds of ammo and your favorite handgun with a dominant-side holster  If y
 ou need to borrow a handgun and holster\, we can provide you with the equi
 pment and you will just need to pay for the ammunition.  You will also ne
 ed eye and hearing protection.  \n\nYou also have the option of sticking
  around to get your Minnesota Non-Resident training for an extra $20.  Th
 is training is recognized by the State of Minnesota when applying for your
  Minnesota Carry Permit. This permit will allow you to carry concealed or 
 open when traveling through the state of Minnesota. The Minnesota curricul
 um requires our Nebraska Concealed Handgun course in order to obtain the f
 ull course.\n\nGuarantee: As many of you know\, there are instructors in N
 ebraska who are offering a quickie course which does not cover the require
 d material.  Our classes are guaranteed to cover the required material so
  there is no risk of you losing your permit due to inadequate training. Th
 is also ensures that you have been introduced to the legal responsibilitie
 s of carrying a firearm for self defense which could easily save you a lot
  of trouble and hopefully keep you out of court.\n\n&nbsp\;
ATTACH;FMTTYPE=image/jpeg:https://www.nebraskashooters.com/wp-content/uplo
 ads/2018/07/ComeSeeNS.jpg
CATEGORIES:Everything,Gering,Minnesota,Nebraska Concealed Handgun
 Training,Panhandle,Scottsbluff
LOCATION:Sure Shot Gun Range\,  1346 10th St\, Gering\, Nebraska\, 69341\, 
 United States
GEO:41.82239999999999;-103.65999999999997
X-APPLE-STRUCTURED-LOCATION;VALUE=URI;X-ADDRESS= 1346 10th St\, Gering\, Ne
 braska\, 69341\, United States;X-APPLE-RADIUS=100;X-TITLE=Sure Shot Gun Ra
 nge:geo:41.82239999999999,-103.65999999999997
END:VEVENT
BEGIN:VTIMEZONE
TZID:America/Denver
X-LIC-LOCATION:America/Denver
BEGIN:STANDARD
DTSTART:20181104T010000
TZOFFSETFROM:-0600
TZOFFSETTO:-0700
TZNAME:MST
END:STANDARD
END:VTIMEZONE
END:VCALENDAR