BEGIN:VCALENDAR
VERSION:2.0
PRODID:-//wp-events-plugin.com//7.2.3.1//EN
TZID:America/North_Dakota/Center
X-WR-TIMEZONE:America/North_Dakota/Center
BEGIN:VEVENT
UID:489@nebraskashooters.com
DTSTART;TZID=America/North_Dakota/Center:20171001T080000
DTEND;TZID=America/North_Dakota/Center:20171001T170000
DTSTAMP:20170725T034512Z
URL:https://www.nebraskashooters.com/events/ccw-firth-shrine-2/
SUMMARY:CCW-Firth-Shrine
DESCRIPTION:\n	Shriner Special Fundraiser Class\n\n\n\n	Nebraska Concealed 
 Handgun Training instructed by Justin Grusing. This is the course required
  by the State of Nebraska to satisfy the training requirements to get your
  Concealed Handgun Permit (CHP). After years of refinement our instructors
  have developed a course that is easy for the new shooter to understand wh
 ile still offering excellent information to the experienced shooters.&nbsp
 \;The Nebraska Conceal Handgun Training will meet requirements to get your
  Nebraska permit. Nebraska&rsquo\;s permit will enable legal concealed car
 ry in 33&nbsp\;states. &nbsp\;For a list of states that recognize the Nebr
 aska CHP&nbsp\;check out the reciprocity page for more details. This class
  will also meet the requirements for Iowa or Colorado residents to get the
 ir concealed carry permit. This is a non-NRA course taught by an NRA Certi
 fied Instructor in strict accordance with a state-approved lesson plan.\n\
 n\n\n	It is required that you bring 100 rounds of ammo and your favorite h
 andgun with a dominant-side holster &nbsp\;If you need to borrow a handgun
  and holster\, we can provide you with the equipment and you will just nee
 d to pay for the ammunition.&nbsp\; You will also need eye and hearing pro
 tection.&nbsp\; Lunch and snacks are provided\, but you are always welcome
  to bring your own. (Remember\, there are no&nbsp\;restaurants&nbsp\;nearb
 y).\n\n\n\n	You will also have the option to add the Minnesota&nbsp\;Non-R
 esident Carry Permit training to this course for $20&nbsp\;which will allo
 w you to go to Minnesota and apply for a carry permit.&nbsp\; This will ta
 ke an additional hour&nbsp\;and does not require any additional shooting o
 r test.\n\n\n\n	Guarantee: As many of you know\, there are instructors in 
 Nebraska who are offering a quickie course which does not cover the requir
 ed material. &nbsp\;Our classes are guaranteed to cover the required mater
 ial so there is no risk of you losing your permit due to inadequate traini
 ng. This also ensures that you have been introduced to the legal responsib
 ilities of carrying a firearm for self defense which could easily save you
  a lot of trouble and hopefully keep you out of court.\n\n\n\n	Proceeds fr
 om this course are going to be donated to the Shrine Gun Club which is a u
 nit of the Sesostris&nbsp\;Shrine of Lincoln\, Nebraska.\n\n
ATTACH;FMTTYPE=image/jpeg:https://www.nebraskashooters.com/wp-content/uplo
 ads/2017/01/Sesostris-Gun-Club-Logo-2.jpg
CATEGORIES:Everything,Fund Raiser,Nebraska Concealed Handgun
 Training,Nebraska Shooters Range
LOCATION:Nebraska Shooters\, 3200 Gage Rd\, Firth\, Nebraska\, 68358\, Unit
 ed States
GEO:40.524337;-96.675525
X-APPLE-STRUCTURED-LOCATION;VALUE=URI;X-ADDRESS=3200 Gage Rd\, Firth\, Nebr
 aska\, 68358\, United States;X-APPLE-RADIUS=100;X-TITLE=Nebraska Shooters:
 geo:40.524337,-96.675525
END:VEVENT
BEGIN:VTIMEZONE
TZID:America/North_Dakota/Center
X-LIC-LOCATION:America/North_Dakota/Center
BEGIN:DAYLIGHT
DTSTART:20170312T030000
TZOFFSETFROM:-0600
TZOFFSETTO:-0500
TZNAME:CDT
END:DAYLIGHT
END:VTIMEZONE
END:VCALENDAR