BEGIN:VCALENDAR
VERSION:2.0
PRODID:-//wp-events-plugin.com//7.2.3.1//EN
TZID:America/North_Dakota/Center
X-WR-TIMEZONE:America/North_Dakota/Center
BEGIN:VEVENT
UID:505@nebraskashooters.com
DTSTART;TZID=America/North_Dakota/Center:20170924T080000
DTEND;TZID=America/North_Dakota/Center:20170924T170000
DTSTAMP:20170821T155431Z
URL:https://www.nebraskashooters.com/events/ccw-firth-9-24-17/
SUMMARY:CCW-Firth-9-24-17
DESCRIPTION:\n	Nebraska Concealed Handgun Training taught by Nebraska Shoot
 ers Team\n\n\n\n	This is the course required by the State of Nebraska to s
 atisfy the training requirements to get your Concealed Handgun Permit (CHP
 ). After years of refinement our instructors have developed a course that 
 is easy for the new shooter to understand while still offering excellent i
 nformation to the experienced shooters.&nbsp\;The Nebraska Conceal Handgun
  Training will meet requirements to get your Nebraska permit. Nebraska&rsq
 uo\;s permit will enable legal concealed carry in 34&nbsp\;states. &nbsp\;
 Check out the&nbsp\;reciprocity page&nbsp\;for more details. This class wi
 ll also meet the requirements for Iowa\, Kansas\, or Colorado residents to
  get their concealed carry permit. This is a non-NRA course taught by an N
 RA Certified Instructor in strict accordance with a state-approved lesson 
 plan.\n\n\n\n	It is required that you bring 100 rounds of ammo and your fa
 vorite handgun with a dominant-side holster &nbsp\;If you need to borrow a
  handgun and holster\, we can provide you with the equipment and you will 
 just need to pay for the ammunition.&nbsp\; You will also need eye and hea
 ring protection.&nbsp\; Lunch and snacks are provided\, but you are always
  welcome to bring your own. (Remember\, there are no&nbsp\;restaurants&nbs
 p\;nearby).\n\n\n\n	This is also your opportunity to get your Minnesota no
 n-resident training certification for only $20.\n\n\n\n	Guarantee:&nbsp\;A
 s many of you know\, there are instructors in Nebraska who are offering a 
 quickie course which does not cover the required material. &nbsp\;Our clas
 ses are guaranteed to cover the required material hence&nbsp\;there is no 
 risk of you losing your permit due to inadequate training. This also ensur
 es that you have been introduced to the legal responsibilities of carrying
  a firearm for self defense. This&nbsp\;could easily save you a lot of tro
 uble and hopefully keep you out of court.\n\n\n\n	Group and Buddy Discount
 s available for those who sign up and pay online.&nbsp\;Click here for mor
 e info.&nbsp\;&nbsp\;Please list your group or buddy in the comments. &nbs
 p\;The base price is $138 for those who sign up and pay online. &nbsp\;The
  price will be $150 for those who are paying the day of class.&nbsp\;\n\n
ATTACH;FMTTYPE=image/jpeg:https://www.nebraskashooters.com/wp-content/uplo
 ads/2017/01/Nebraska-Shooters-PF-1-Billboard.jpg
CATEGORIES:Crete,Everything,Nebraska Concealed Handgun Training
LOCATION:Nebraska Shooters\, 3200 Gage Rd\, Firth\, Nebraska\, 68358\, Unit
 ed States
GEO:40.524337;-96.675525
X-APPLE-STRUCTURED-LOCATION;VALUE=URI;X-ADDRESS=3200 Gage Rd\, Firth\, Nebr
 aska\, 68358\, United States;X-APPLE-RADIUS=100;X-TITLE=Nebraska Shooters:
 geo:40.524337,-96.675525
END:VEVENT
BEGIN:VTIMEZONE
TZID:America/North_Dakota/Center
X-LIC-LOCATION:America/North_Dakota/Center
BEGIN:DAYLIGHT
DTSTART:20170312T030000
TZOFFSETFROM:-0600
TZOFFSETTO:-0500
TZNAME:CDT
END:DAYLIGHT
END:VTIMEZONE
END:VCALENDAR