BEGIN:VCALENDAR
VERSION:2.0
PRODID:-//wp-events-plugin.com//7.2.3.1//EN
TZID:America/North_Dakota/Center
X-WR-TIMEZONE:America/North_Dakota/Center
BEGIN:VEVENT
UID:492@nebraskashooters.com
DTSTART;TZID=America/North_Dakota/Center:20170827T080000
DTEND;TZID=America/North_Dakota/Center:20170827T170000
DTSTAMP:20170725T174604Z
URL:https://www.nebraskashooters.com/events/ccw-firth-8-27-17/
SUMMARY:CCW-Firth-8-27-17
DESCRIPTION:\n	Nebraska Concealed Handgun Training taught by Sam Greenfield
 \n\n\n\n	This is the course required by the State of Nebraska to satisfy t
 he training requirements to get your Concealed Handgun Permit (CHP). After
  years of refinement our instructors have developed a course that is easy 
 for the new shooter to understand while still offering excellent informati
 on to the experienced shooters.&nbsp\;The Nebraska Conceal Handgun Trainin
 g will meet requirements to get your Nebraska permit. Nebraska&rsquo\;s pe
 rmit will enable legal concealed carry in 34&nbsp\;states. &nbsp\;Check ou
 t the&nbsp\;reciprocity page&nbsp\;for more details. This class will also 
 meet the requirements for Iowa\, Kansas\, or Colorado residents to get the
 ir concealed carry permit. This is a non-NRA course taught by an NRA Certi
 fied Instructor in strict accordance with a state-approved lesson plan.\n\
 n\n\n	It is required that you bring 100 rounds of ammo and your favorite h
 andgun with a dominant-side holster &nbsp\;If you need to borrow a handgun
  and holster\, we can provide you with the equipment and you will just nee
 d to pay for the ammunition.&nbsp\; You will also need eye and hearing pro
 tection.&nbsp\; Lunch and snacks are provided\, but you are always welcome
  to bring your own. (Remember\, there are no&nbsp\;restaurants&nbsp\;nearb
 y).\n\n\n\n	This is also your opportunity to get your Minnesota non-reside
 nt training certification for only $20.\n\n\n\n	Guarantee:&nbsp\;As many o
 f you know\, there are instructors in Nebraska who are offering a quickie 
 course which does not cover the required material. &nbsp\;Our classes are 
 guaranteed to cover the required material hence&nbsp\;there is no risk of 
 you losing your permit due to inadequate training. This also ensures that 
 you have been introduced to the legal responsibilities of carrying a firea
 rm for self defense. This&nbsp\;could easily save you a lot of trouble and
  hopefully keep you out of court.\n\n\n\n	Group and Buddy Discounts availa
 ble for those who sign up and pay online.&nbsp\;Click here for more info.&
 nbsp\;&nbsp\;Please list your group or buddy in the comments. &nbsp\;The b
 ase price is $138 for those who sign up and pay online. &nbsp\;The price w
 ill be $150 for those who are paying the day of class.&nbsp\;\n\n
ATTACH;FMTTYPE=image/jpeg:https://www.nebraskashooters.com/wp-content/uplo
 ads/2017/01/Nebraska-Shooters-PF-1-Billboard.jpg
CATEGORIES:Crete,Everything,Nebraska Concealed Handgun Training
LOCATION:Nebraska Shooters\, 3200 Gage Rd\, Firth\, Nebraska\, 68358\, Unit
 ed States
GEO:40.524337;-96.675525
X-APPLE-STRUCTURED-LOCATION;VALUE=URI;X-ADDRESS=3200 Gage Rd\, Firth\, Nebr
 aska\, 68358\, United States;X-APPLE-RADIUS=100;X-TITLE=Nebraska Shooters:
 geo:40.524337,-96.675525
END:VEVENT
BEGIN:VTIMEZONE
TZID:America/North_Dakota/Center
X-LIC-LOCATION:America/North_Dakota/Center
BEGIN:DAYLIGHT
DTSTART:20170312T030000
TZOFFSETFROM:-0600
TZOFFSETTO:-0500
TZNAME:CDT
END:DAYLIGHT
END:VTIMEZONE
END:VCALENDAR