BEGIN:VCALENDAR
VERSION:2.0
PRODID:-//wp-events-plugin.com//7.2.3.1//EN
TZID:America/North_Dakota/Center
X-WR-TIMEZONE:America/North_Dakota/Center
BEGIN:VEVENT
UID:820@nebraskashooters.com
DTSTART;TZID=America/North_Dakota/Center:20190622T090000
DTEND;TZID=America/North_Dakota/Center:20190622T180000
DTSTAMP:20190520T114313Z
URL:https://www.nebraskashooters.com/events/ccw-firth-6-22-19/
SUMMARY:CCW- Firth 6-22-19
DESCRIPTION:Nebraska Concealed Handgun Training\nInstructed by Terry Lane F
 itzgerald\nThis is the course required by the State of Nebraska to satisfy
  the training requirements to get your Concealed Handgun Permit (CHP). Aft
 er years of refinement our instructors have developed a course that is eas
 y for the new shooter to understand while still offering excellent informa
 tion to the experienced shooters. The Nebraska Conceal Handgun Training wi
 ll meet requirements to get your Nebraska permit. Nebraska’s permit will
  enable legal concealed carry in 35 states.  Check out the reciprocity pa
 ge for more details. This class will also meet the requirements for Iowa o
 r Colorado residents to get their concealed carry permit. This is a non-NR
 A course taught by an NRA Certified Instructor in strict accordance with a
  state-approved lesson plan.\n\nIt is required that you bring 100 rounds o
 f ammo and your favorite handgun with a dominant-side holster  If you nee
 d to borrow a handgun and holster\, we can provide you with the equipment 
 and you will just need to pay for the ammunition.  You will also need eye
  and hearing protection.  Lunch will be provided. Drinks and snacks will 
 be available throughout the day.   Also\, please bring a billed cap and n
 o low cut shirts to catch hot brass.\n\nWe are also offering an optional
  Minnesota Non-Resident add-on course after class if anyone is interested
 .  This is approximately 1 hour and the cost is $20.\n\nGuarantee: As m
 any of you know\, there are instructors in Nebraska who are offering a qui
 ckie course which does not cover the required material.  Our classes are 
 guaranteed to cover the required material so there is no risk of you losin
 g your permit due to inadequate training. This also ensures that you have 
 been introduced to the legal responsibilities of carrying a firearm for se
 lf defense which could easily save you a lot of trouble and hopefully keep
  you out of court.\n\nBring a friend and get a discount. For group and mil
 itary discounts please follow instructions HERE.
ATTACH;FMTTYPE=image/jpeg:https://www.nebraskashooters.com/wp-content/uplo
 ads/2018/07/ComeSeeNS.jpg
CATEGORIES:Everything,Minnesota,Nebraska Concealed Handgun
 Training,Nebraska Shooters Range,Southeast
LOCATION:Nebraska Shooters\, 3200 Gage Rd\, Firth\, Nebraska\, 68358\, Unit
 ed States
GEO:40.524337;-96.675525
X-APPLE-STRUCTURED-LOCATION;VALUE=URI;X-ADDRESS=3200 Gage Rd\, Firth\, Nebr
 aska\, 68358\, United States;X-APPLE-RADIUS=100;X-TITLE=Nebraska Shooters:
 geo:40.524337,-96.675525
END:VEVENT
BEGIN:VTIMEZONE
TZID:America/North_Dakota/Center
X-LIC-LOCATION:America/North_Dakota/Center
BEGIN:DAYLIGHT
DTSTART:20190310T030000
TZOFFSETFROM:-0600
TZOFFSETTO:-0500
TZNAME:CDT
END:DAYLIGHT
END:VTIMEZONE
END:VCALENDAR