BEGIN:VCALENDAR
VERSION:2.0
PRODID:-//wp-events-plugin.com//7.2.3.1//EN
TZID:America/North_Dakota/Center
X-WR-TIMEZONE:America/North_Dakota/Center
BEGIN:VEVENT
UID:787@nebraskashooters.com
DTSTART;TZID=America/North_Dakota/Center:20190406T083000
DTEND;TZID=America/North_Dakota/Center:20190406T163000
DTSTAMP:20190401T145909Z
URL:https://www.nebraskashooters.com/events/ccw-firth-4-6-19/
SUMMARY:CCW- Crete 4-6-19
DESCRIPTION:Nebraska Concealed Handgun Training\nInstructed by Doug Walker\
 nat 346 County Rd 2300 Crete\, NE\nThis is the course required by the Stat
 e of Nebraska to satisfy the training requirements to get your Concealed H
 andgun Permit (CHP). After years of refinement our instructors have develo
 ped a course that is easy for the new shooter to understand while still of
 fering excellent information to the experienced shooters. The Nebraska Con
 ceal Handgun Training will meet requirements to get your Nebraska permit. 
 Nebraska’s permit will enable legal concealed carry in 35 states.  Chec
 k out the reciprocity page for more details. This class will also meet the
  requirements for Iowa or Colorado residents to get their concealed carry 
 permit. This is a non-NRA course taught by an NRA Certified Instructor in 
 strict accordance with a state-approved lesson plan.\n\nIt is required tha
 t you bring 100 rounds of ammo and your favorite handgun with a dominant-s
 ide holster  If you need to borrow a handgun and holster\, we can provide
  you with the equipment and you will just need to pay for the ammunition.
   You will also need eye and hearing protection.  Lunch will be provided
 . Drinks and snacks will be available throughout the day.   Also\, please
  bring a billed cap and no low cut shirts to catch hot brass.\n\nGuarante
 e: As many of you know\, there are instructors in Nebraska who are offerin
 g a quickie course which does not cover the required material.  Our class
 es are guaranteed to cover the required material so there is no risk of yo
 u losing your permit due to inadequate training. This also ensures that yo
 u have been introduced to the legal responsibilities of carrying a firearm
  for self defense which could easily save you a lot of trouble and hopeful
 ly keep you out of court.\n\nBring a friend and get a discount. For group 
 and military discounts please follow instructions HERE.
ATTACH;FMTTYPE=image/jpeg:https://www.nebraskashooters.com/wp-content/uplo
 ads/2018/07/ComeSeeNS.jpg
CATEGORIES:Crete,Everything,Nebraska Concealed Handgun Training,Southeast
LOCATION:Crete\, 346 County Rd 2300\, Crete\, Nebraska\, 68333\, United Sta
 tes
GEO:40.662075;-96.950671
X-APPLE-STRUCTURED-LOCATION;VALUE=URI;X-ADDRESS=346 County Rd 2300\, Crete\
 , Nebraska\, 68333\, United States;X-APPLE-RADIUS=100;X-TITLE=Crete:geo:40
 .662075,-96.950671
END:VEVENT
BEGIN:VTIMEZONE
TZID:America/North_Dakota/Center
X-LIC-LOCATION:America/North_Dakota/Center
BEGIN:DAYLIGHT
DTSTART:20190310T030000
TZOFFSETFROM:-0600
TZOFFSETTO:-0500
TZNAME:CDT
END:DAYLIGHT
END:VTIMEZONE
END:VCALENDAR