BEGIN:VCALENDAR
VERSION:2.0
PRODID:-//wp-events-plugin.com//7.2.3.1//EN
TZID:America/North_Dakota/Center
X-WR-TIMEZONE:America/North_Dakota/Center
BEGIN:VEVENT
UID:564@nebraskashooters.com
DTSTART;TZID=America/North_Dakota/Center:20180324T080000
DTEND;TZID=America/North_Dakota/Center:20180324T170000
DTSTAMP:20180226T150104Z
URL:https://www.nebraskashooters.com/events/ccw-firth-3-24-18/
SUMMARY:CCW- Firth 3-24-18
DESCRIPTION:This Nebraska Concealed Handgun Training\nInstructed by Justin 
 Grusing.\nThis is the course required by the State of Nebraska to satisfy 
 the training requirements to get your Concealed Handgun Permit (CHP). Afte
 r years of refinement our instructors have developed a course that is easy
  for the new shooter to understand while still offering excellent informat
 ion to the experienced shooters.&nbsp\;The Nebraska Conceal Handgun Traini
 ng will meet requirements to get your Nebraska permit. Nebraska’s permit
  will enable legal concealed carry in 34&nbsp\;states. &nbsp\;Check out th
 e reciprocity page for more details. This class will also meet the require
 ments for Iowa or Colorado residents to get their concealed carry permit. 
 This is a non-NRA course taught by an NRA Certified Instructor in strict a
 ccordance with a state-approved lesson plan.\n\nIt is required that you br
 ing 100 rounds of ammo and your favorite handgun with a dominant-side hols
 ter &nbsp\;If you need to borrow a handgun and holster\, we can provide yo
 u with the equipment and you will just need to pay for the ammunition.&nbs
 p\; You will also need eye and hearing protection. &nbsp\;Lunch will be pr
 ovided. Drinks and snacks will be available throughout the day. &nbsp\; Al
 so\, please bring a billed cap and no low cut shirts to&nbsp\;catch hot br
 ass.\n\nWe are also offering an optional&nbsp\;Minnesota Non-Resident add-
 on course after class if anyone is interested. &nbsp\;This is approximatel
 y 1&nbsp\;hour&nbsp\;and the cost is $20.\n\nGuarantee: As many of you kno
 w\, there are instructors in Nebraska who are offering a quickie course wh
 ich does not cover the required material. &nbsp\;Our classes are guarantee
 d to cover the required material so there is no risk of you losing your pe
 rmit due to inadequate training. This also ensures that you have been intr
 oduced to the legal responsibilities of carrying a firearm for self defens
 e which could easily save you a lot of trouble and hopefully keep you out 
 of court.\n\n&nbsp\;
ATTACH;FMTTYPE=image/jpeg:https://www.nebraskashooters.com/wp-content/uplo
 ads/2017/01/Nebraska-Shooters-PF-1-Billboard.jpg
CATEGORIES:Everything,Minnesota,Nebraska Concealed Handgun
 Training,Nebraska Shooters Range,Southeast
LOCATION:Nebraska Shooters\, 3200 Gage Rd\, Firth\, Nebraska\, 68358\, Unit
 ed States
GEO:40.524337;-96.675525
X-APPLE-STRUCTURED-LOCATION;VALUE=URI;X-ADDRESS=3200 Gage Rd\, Firth\, Nebr
 aska\, 68358\, United States;X-APPLE-RADIUS=100;X-TITLE=Nebraska Shooters:
 geo:40.524337,-96.675525
END:VEVENT
BEGIN:VTIMEZONE
TZID:America/North_Dakota/Center
X-LIC-LOCATION:America/North_Dakota/Center
BEGIN:DAYLIGHT
DTSTART:20180311T030000
TZOFFSETFROM:-0600
TZOFFSETTO:-0500
TZNAME:CDT
END:DAYLIGHT
END:VTIMEZONE
END:VCALENDAR