BEGIN:VCALENDAR
VERSION:2.0
PRODID:-//wp-events-plugin.com//7.2.3.1//EN
TZID:America/North_Dakota/Center
X-WR-TIMEZONE:America/North_Dakota/Center
BEGIN:VEVENT
UID:786@nebraskashooters.com
DTSTART;TZID=America/North_Dakota/Center:20190320T180000
DTEND;TZID=America/North_Dakota/Center:20190321T213000
DTSTAMP:20190319T151545Z
URL:https://www.nebraskashooters.com/events/ccw-firth-3-20-19/
SUMMARY:CCW- Lincoln 3-20-19
DESCRIPTION:Nebraska Concealed Handgun Training\nInstructed by Doug Walker 
 at 6833 S. 52nd St\nThis is the course required by the State of Nebraska t
 o satisfy the training requirements to get your Concealed Handgun Permit (
 CHP). After years of refinement our instructors have developed a course th
 at is easy for the new shooter to understand while still offering excellen
 t information to the experienced shooters. The Nebraska Conceal Handgun Tr
 aining will meet requirements to get your Nebraska permit. Nebraska’s pe
 rmit will enable legal concealed carry in 35 states.  Check out the recip
 rocity page for more details. This class will also meet the requirements f
 or Iowa or Colorado residents to get their concealed carry permit. This is
  a non-NRA course taught by an NRA Certified Instructor in strict accordan
 ce with a state-approved lesson plan.\n\nIt is required that you bring 100
  rounds of ammo and your favorite handgun with a dominant-side holster  I
 f you need to borrow a handgun and holster\, we can provide you with the e
 quipment and you will just need to pay for the ammunition.  You will also
  need eye and hearing protection.  Lunch will be provided. Drinks and sna
 cks will be available throughout the day.   Also\, please bring a billed 
 cap and no low cut shirts to catch hot brass.\n\nWe will be teaching this
  class over two evenings and doing the range work on 3/24/19 at 1:00 PM. 
  All three portions are required to complete this course.\n\nGuarantee: As
  many of you know\, there are instructors in Nebraska who are offering a q
 uickie course which does not cover the required material.  Our classes ar
 e guaranteed to cover the required material so there is no risk of you los
 ing your permit due to inadequate training. This also ensures that you hav
 e been introduced to the legal responsibilities of carrying a firearm for 
 self defense which could easily save you a lot of trouble and hopefully ke
 ep you out of court.\n\nBring a friend and get a discount. For group and m
 ilitary discounts please follow instructions HERE.
ATTACH;FMTTYPE=image/jpeg:https://www.nebraskashooters.com/wp-content/uplo
 ads/2018/07/ComeSeeNS.jpg
CATEGORIES:Everything,Minnesota,Nebraska Concealed Handgun
 Training,Nebraska Shooters Range,Southeast
LOCATION:Walker 6833 S 52nd St Lincoln\, 6833 S. 52nd Street\, Lincoln\, NE
 \, 68516\, United States
GEO:40.7431986;-96.64884180000001
X-APPLE-STRUCTURED-LOCATION;VALUE=URI;X-ADDRESS=6833 S. 52nd Street\, Linco
 ln\, NE\, 68516\, United States;X-APPLE-RADIUS=100;X-TITLE=Walker 6833 S 5
 2nd St Lincoln:geo:40.7431986,-96.64884180000001
END:VEVENT
BEGIN:VTIMEZONE
TZID:America/North_Dakota/Center
X-LIC-LOCATION:America/North_Dakota/Center
BEGIN:DAYLIGHT
DTSTART:20190310T030000
TZOFFSETFROM:-0600
TZOFFSETTO:-0500
TZNAME:CDT
END:DAYLIGHT
END:VTIMEZONE
END:VCALENDAR