BEGIN:VCALENDAR
VERSION:2.0
PRODID:-//wp-events-plugin.com//7.2.3.1//EN
TZID:America/North_Dakota/Center
X-WR-TIMEZONE:America/North_Dakota/Center
BEGIN:VEVENT
UID:525@nebraskashooters.com
DTSTART;TZID=America/North_Dakota/Center:20171202T080000
DTEND;TZID=America/North_Dakota/Center:20171202T170000
DTSTAMP:20171128T171110Z
URL:https://www.nebraskashooters.com/events/ccw-firth-12-2-17/
SUMMARY:CCW- Firth 12-2-17
DESCRIPTION:\n	This Nebraska Concealed Handgun Training\n\n\n\n	Instructed 
 by Justin Grusing.\n\n\n\n	This is the course required by the State of Neb
 raska to satisfy the training requirements to get your Concealed Handgun P
 ermit (CHP). After years of refinement our instructors have developed a co
 urse that is easy for the new shooter to understand while still offering e
 xcellent information to the experienced shooters.&nbsp\;The Nebraska Conce
 al Handgun Training will meet requirements to get your Nebraska permit. Ne
 braska&rsquo\;s permit will enable legal concealed carry in 34&nbsp\;state
 s. &nbsp\;Check out the reciprocity page for more details. This class will
  also meet the requirements for Iowa or Colorado residents to get their co
 ncealed carry permit. This is a non-NRA course taught by an NRA Certified 
 Instructor in strict accordance with a state-approved lesson plan.\n\n\n\n
 	It is required that you bring 100 rounds of ammo and your favorite handgu
 n with a dominant-side holster &nbsp\;If you need to borrow a handgun and 
 holster\, we can provide you with the equipment and you will just need to 
 pay for the ammunition.&nbsp\; You will also need eye and hearing protecti
 on. &nbsp\;Lunch will be provided. Drinks and snacks will be available thr
 oughout the day. &nbsp\; Also\, please bring a billed cap and no low cut s
 hirts to&nbsp\;catch hot brass.\n\n\n\n	We are also offering an optional&n
 bsp\;Minnesota Non-Resident add-on course after class if anyone is interes
 ted. &nbsp\;This is approximately 1&nbsp\;hour&nbsp\;and the cost is $20.\
 n\n\n\n	Guarantee: As many of you know\, there are instructors in Nebraska
  who are offering a quickie course which does not cover the required mater
 ial. &nbsp\;Our classes are guaranteed to cover the required material so t
 here is no risk of you losing your permit due to inadequate training. This
  also ensures that you have been introduced to the legal responsibilities 
 of carrying a firearm for self defense which could easily save you a lot o
 f trouble and hopefully keep you out of court.\n\n\n\n	&nbsp\;\n\n
ATTACH;FMTTYPE=image/jpeg:https://www.nebraskashooters.com/wp-content/uplo
 ads/2017/01/Nebraska-Shooters-PF-1-Billboard.jpg
CATEGORIES:Everything,Minnesota,Nebraska Concealed Handgun
 Training,Nebraska Shooters Range,Southeast
LOCATION:Nebraska Shooters\, 3200 Gage Rd\, Firth\, Nebraska\, 68358\, Unit
 ed States
GEO:40.524337;-96.675525
X-APPLE-STRUCTURED-LOCATION;VALUE=URI;X-ADDRESS=3200 Gage Rd\, Firth\, Nebr
 aska\, 68358\, United States;X-APPLE-RADIUS=100;X-TITLE=Nebraska Shooters:
 geo:40.524337,-96.675525
END:VEVENT
BEGIN:VTIMEZONE
TZID:America/North_Dakota/Center
X-LIC-LOCATION:America/North_Dakota/Center
BEGIN:STANDARD
DTSTART:20171105T010000
TZOFFSETFROM:-0500
TZOFFSETTO:-0600
TZNAME:CST
END:STANDARD
END:VTIMEZONE
END:VCALENDAR