BEGIN:VCALENDAR
VERSION:2.0
PRODID:-//wp-events-plugin.com//7.2.3.1//EN
TZID:America/North_Dakota/Center
X-WR-TIMEZONE:America/North_Dakota/Center
BEGIN:VEVENT
UID:530@nebraskashooters.com
DTSTART;TZID=America/North_Dakota/Center:20180113T080000
DTEND;TZID=America/North_Dakota/Center:20180113T170000
DTSTAMP:20171220T211956Z
URL:https://www.nebraskashooters.com/events/ccw-firth-1-13-18/
SUMMARY:CCW- Firth 1-13-18
DESCRIPTION:\n	This Nebraska Concealed Handgun Training\n\n\n\n	Instructed 
 by Randy Feese.\n\n\n\n	This is the course required by the State of Nebras
 ka to satisfy the training requirements to get your Concealed Handgun Perm
 it (CHP). After years of refinement our instructors have developed a cours
 e that is easy for the new shooter to understand while still offering exce
 llent information to the experienced shooters.&nbsp\;The Nebraska Conceal 
 Handgun Training will meet requirements to get your Nebraska permit. Nebra
 ska&rsquo\;s permit will enable legal concealed carry in 34&nbsp\;states. 
 &nbsp\;Check out the reciprocity page for more details. This class will al
 so meet the requirements for Iowa or Colorado residents to get their conce
 aled carry permit. This is a non-NRA course taught by an NRA Certified Ins
 tructor in strict accordance with a state-approved lesson plan.\n\n\n\n	It
  is required that you bring 100 rounds of ammo and your favorite handgun w
 ith a dominant-side holster &nbsp\;If you need to borrow a handgun and hol
 ster\, we can provide you with the equipment and you will just need to pay
  for the ammunition.&nbsp\; You will also need eye and hearing protection.
  &nbsp\;Lunch will be provided. Drinks and snacks will be available throug
 hout the day. &nbsp\; Also\, please bring a billed cap and no low cut shir
 ts to&nbsp\;catch hot brass.\n\n\n\n	We are also offering an optional&nbsp
 \;Minnesota Non-Resident add-on course after class if anyone is interested
 . &nbsp\;This is approximately 1&nbsp\;hour&nbsp\;and the cost is $20.\n\n
 \n\n	Guarantee: As many of you know\, there are instructors in Nebraska wh
 o are offering a quickie course which does not cover the required material
 . &nbsp\;Our classes are guaranteed to cover the required material so ther
 e is no risk of you losing your permit due to inadequate training. This al
 so ensures that you have been introduced to the legal responsibilities of 
 carrying a firearm for self defense which could easily save you a lot of t
 rouble and hopefully keep you out of court.\n\n\n\n	&nbsp\;\n\n
ATTACH;FMTTYPE=image/jpeg:https://www.nebraskashooters.com/wp-content/uplo
 ads/2017/01/Nebraska-Shooters-PF-1-Billboard.jpg
CATEGORIES:Everything,Minnesota,Nebraska Concealed Handgun
 Training,Nebraska Shooters Range,Southeast
LOCATION:Nebraska Shooters\, 3200 Gage Rd\, Firth\, Nebraska\, 68358\, Unit
 ed States
GEO:40.524337;-96.675525
X-APPLE-STRUCTURED-LOCATION;VALUE=URI;X-ADDRESS=3200 Gage Rd\, Firth\, Nebr
 aska\, 68358\, United States;X-APPLE-RADIUS=100;X-TITLE=Nebraska Shooters:
 geo:40.524337,-96.675525
END:VEVENT
BEGIN:VTIMEZONE
TZID:America/North_Dakota/Center
X-LIC-LOCATION:America/North_Dakota/Center
BEGIN:STANDARD
DTSTART:20171105T010000
TZOFFSETFROM:-0500
TZOFFSETTO:-0600
TZNAME:CST
END:STANDARD
END:VTIMEZONE
END:VCALENDAR