BEGIN:VCALENDAR
VERSION:2.0
PRODID:-//wp-events-plugin.com//7.2.3.1//EN
TZID:America/North_Dakota/Center
X-WR-TIMEZONE:America/North_Dakota/Center
BEGIN:VEVENT
UID:473@nebraskashooters.com
DTSTART;TZID=America/North_Dakota/Center:20170715T080000
DTEND;TZID=America/North_Dakota/Center:20170715T163000
DTSTAMP:20170627T165213Z
URL:https://www.nebraskashooters.com/events/ccw-crete-7-15-17/
SUMMARY:CCW-Crete-7-15-17
DESCRIPTION:\n	Nebraska Concealed Handgun Training taught by Doug Walker\n\
 n\n\n	This is the course required by the State of Nebraska to satisfy the 
 training requirements to get your Concealed Handgun Permit (CHP). After ye
 ars of refinement our instructors have developed a course that is easy for
  the new shooter to understand while still offering excellent information 
 to the experienced shooters.&nbsp\;The Nebraska Conceal Handgun Training w
 ill meet requirements to get your Nebraska permit. Nebraska&rsquo\;s permi
 t will enable legal concealed carry in 34&nbsp\;states. &nbsp\;Check out t
 he&nbsp\;reciprocity page&nbsp\;for more details. This class will also mee
 t the requirements for Iowa\, Kansas\, or Colorado residents to get their 
 concealed carry permit. This is a non-NRA course taught by an NRA Certifie
 d Instructor in strict accordance with a state-approved lesson plan.\n\n\n
 \n	It is required that you bring 100 rounds of ammo and your favorite hand
 gun with a dominant-side holster &nbsp\;If you need to borrow a handgun an
 d holster\, we can provide you with the equipment and you will just need t
 o pay for the ammunition.&nbsp\; You will also need eye and hearing protec
 tion.&nbsp\; Lunch and snacks are provided\, but you are always welcome to
  bring your own. (Remember\, there are no&nbsp\;restaurants&nbsp\;nearby).
 \n\n\n\n	This is also your opportunity to get your Minnesota non-resident 
 training certification for only $20.\n\n\n\n	Guarantee:&nbsp\;As many of y
 ou know\, there are instructors in Nebraska who are offering a quickie cou
 rse which does not cover the required material. &nbsp\;Our classes are gua
 ranteed to cover the required material hence&nbsp\;there is no risk of you
  losing your permit due to inadequate training. This also ensures that you
  have been introduced to the legal responsibilities of carrying a firearm 
 for self defense. This&nbsp\;could easily save you a lot of trouble and ho
 pefully keep you out of court.\n\n\n\n	Group and Buddy Discounts available
  for those who sign up and pay online.&nbsp\;Click here for more info.&nbs
 p\;&nbsp\;Please list your group or buddy in the comments.\n\n
CATEGORIES:Crete,Everything,Nebraska Concealed Handgun Training
LOCATION:Crete\, 346 County Rd 2300\, Crete\, Nebraska\, 68333\, United Sta
 tes
GEO:40.662075;-96.950671
X-APPLE-STRUCTURED-LOCATION;VALUE=URI;X-ADDRESS=346 County Rd 2300\, Crete\
 , Nebraska\, 68333\, United States;X-APPLE-RADIUS=100;X-TITLE=Crete:geo:40
 .662075,-96.950671
END:VEVENT
BEGIN:VTIMEZONE
TZID:America/North_Dakota/Center
X-LIC-LOCATION:America/North_Dakota/Center
BEGIN:DAYLIGHT
DTSTART:20170312T030000
TZOFFSETFROM:-0600
TZOFFSETTO:-0500
TZNAME:CDT
END:DAYLIGHT
END:VTIMEZONE
END:VCALENDAR