BEGIN:VCALENDAR
VERSION:2.0
PRODID:-//wp-events-plugin.com//7.2.3.1//EN
TZID:America/North_Dakota/Center
X-WR-TIMEZONE:America/North_Dakota/Center
BEGIN:VEVENT
UID:740@nebraskashooters.com
DTSTART;TZID=America/North_Dakota/Center:20190407T090000
DTEND;TZID=America/North_Dakota/Center:20190407T180000
DTSTAMP:20181227T234807Z
URL:https://www.nebraskashooters.com/events/ccw-arnold-ladies-4-7-19/
SUMMARY:CCW- Arnold-Ladies 4-7-19
DESCRIPTION:Ladies Only Nebraska Concealed Handgun Training\ninstructed by 
 Lori and Dusty Stutzman.\nThis is the course required by the State of Nebr
 aska to satisfy the training requirements to get your Concealed Handgun Pe
 rmit (CHP). After years of refinement our instructors have developed a cou
 rse that is easy for the new shooter to understand while still offering ex
 cellent information to the experienced shooters. The Nebraska Conceal Han
 dgun Training will meet requirements to get your Nebraska permit. Nebraska
 ’s permit will enable legal concealed carry in 34 states.  Check out t
 he reciprocity page for more details. This class will also meet the requir
 ements for Iowa or Colorado residents to get their concealed carry permit.
  This is a non-NRA course taught by an NRA Certified Instructor in strict 
 accordance with a state-approved lesson plan. You will also have the optio
 n to add on the Minnesota Concealed Handgun training for only $20 if you'd
  like.\n\nIt is required that you bring 100 rounds of ammo and your favori
 te handgun with a dominant-side holster  If you need to borrow a handgun 
 and holster\, we can provide you with the equipment and you will just need
  to pay for the ammunition.  You will also need eye and hearing protectio
 n.  Snacks are provided\, but you are always welcome to bring your own. 
 \n\nGuarantee: As many of you know\, there are instructors in Nebraska who
  are offering a quickie course which does not cover the required material.
   Our classes are guaranteed to cover the required material so there is n
 o risk of you losing your permit due to inadequate training. This also ens
 ures that you have been introduced to the legal responsibilities of carryi
 ng a firearm for self defense which could easily save you a lot of trouble
  and hopefully keep you out of court.\n\n&nbsp\;
ATTACH;FMTTYPE=image/jpeg:https://www.nebraskashooters.com/wp-content/uplo
 ads/2017/01/Nebraska-Shooters-PF-1-Billboard.jpg
CATEGORIES:Arnold,Central,Everything,Minnesota,Nebraska Concealed Handgun
 Training
LOCATION:Triangle Lanes\, 211 W Arnold Ave\, Arnold\, Nebraska\, 69120\, Un
 ited States
GEO:41.4226851;-100.19595850000002
X-APPLE-STRUCTURED-LOCATION;VALUE=URI;X-ADDRESS=211 W Arnold Ave\, Arnold\,
  Nebraska\, 69120\, United States;X-APPLE-RADIUS=100;X-TITLE=Triangle Lane
 s:geo:41.4226851,-100.19595850000002
END:VEVENT
BEGIN:VTIMEZONE
TZID:America/North_Dakota/Center
X-LIC-LOCATION:America/North_Dakota/Center
BEGIN:DAYLIGHT
DTSTART:20190310T030000
TZOFFSETFROM:-0600
TZOFFSETTO:-0500
TZNAME:CDT
END:DAYLIGHT
END:VTIMEZONE
END:VCALENDAR