BEGIN:VCALENDAR
VERSION:2.0
PRODID:-//wp-events-plugin.com//7.2.3.1//EN
TZID:America/North_Dakota/Center
X-WR-TIMEZONE:America/North_Dakota/Center
BEGIN:VEVENT
UID:760@nebraskashooters.com
DTSTART;TZID=America/North_Dakota/Center:20190622T090000
DTEND;TZID=America/North_Dakota/Center:20190622T180000
DTSTAMP:20190523T192142Z
URL:https://www.nebraskashooters.com/events/ccw-arnold-6-22-19/
SUMMARY:CCW- Arnold-6-22-19
DESCRIPTION:Nebraska Concealed Handgun Training\n
ATTACH;FMTTYPE=image/jpeg:https://www.nebraskashooters.com/wp-content/uplo
 ads/2017/01/Nebraska-Shooters-PF-1-Billboard.jpg
CATEGORIES:Arnold,Central,Everything,Minnesota,Nebraska Concealed Handgun
 Training
LOCATION:Triangle Lanes\, 211 W Arnold Ave\, Arnold\, Nebraska\, 69120\, Un
 ited States
GEO:41.4226851;-100.19595850000002
X-APPLE-STRUCTURED-LOCATION;VALUE=URI;X-ADDRESS=211 W Arnold Ave\, Arnold\,
  Nebraska\, 69120\, United States;X-APPLE-RADIUS=100;X-TITLE=Triangle Lane
 s:geo:41.4226851,-100.19595850000002
END:VEVENT
BEGIN:VTIMEZONE
TZID:America/North_Dakota/Center
X-LIC-LOCATION:America/North_Dakota/Center
BEGIN:DAYLIGHT
DTSTART:20190310T030000
TZOFFSETFROM:-0600
TZOFFSETTO:-0500
TZNAME:CDT
END:DAYLIGHT
END:VTIMEZONE
END:VCALENDAR