BEGIN:VCALENDAR
VERSION:2.0
PRODID:-//wp-events-plugin.com//7.2.3.1//EN
TZID:America/North_Dakota/Center
X-WR-TIMEZONE:America/North_Dakota/Center
BEGIN:VEVENT
UID:806@nebraskashooters.com
DTSTART;TZID=America/North_Dakota/Center:20190508T090000
DTEND;TZID=America/North_Dakota/Center:20190508T180000
DTSTAMP:20190416T205501Z
URL:https://www.nebraskashooters.com/events/ccw-arnold-5-8-19/
SUMMARY:CCW- Arnold 5-8-19
DESCRIPTION:Nebraska Concealed Handgun Training\ninstructed by Lori and Dus
 ty Stutzman.\nThis is the course required by the State of Nebraska to sati
 sfy the training requirements to get your Concealed Handgun Permit (CHP). 
 After years of refinement our instructors have developed a course that is 
 easy for the new shooter to understand while still offering excellent info
 rmation to the experienced shooters. The Nebraska Conceal Handgun Training
  will meet requirements to get your Nebraska permit. Nebraska’s permit w
 ill enable legal concealed carry in 35 states.  Check out the reciprocity
  page for more details. This class will also meet the requirements for Iow
 a or Colorado residents to get their concealed carry permit. This is a non
 -NRA course taught by an NRA Certified Instructor in strict accordance wit
 h a state-approved lesson plan. You will also have the option to add on th
 e Minnesota Carry permit training for only $20 if you'd like.\n\nIt is req
 uired that you bring 100 rounds of ammo and your favorite handgun with a d
 ominant-side holster  If you need to borrow a handgun and holster\, we ca
 n provide you with the equipment and you will just need to pay for the amm
 unition.  You will also need eye and hearing protection.  Snacks are pro
 vided\, but you are always welcome to bring your own. \n\nGuarantee: As m
 any of you know\, there are instructors in Nebraska who are offering a qui
 ckie course which does not cover the required material.  Our classes are 
 guaranteed to cover the required material so there is no risk of you losin
 g your permit due to inadequate training. This also ensures that you have 
 been introduced to the legal responsibilities of carrying a firearm for se
 lf defense which could easily save you a lot of trouble and hopefully keep
  you out of court.\n\n&nbsp\;
ATTACH;FMTTYPE=image/jpeg:https://www.nebraskashooters.com/wp-content/uplo
 ads/2017/01/Nebraska-Shooters-PF-1-Billboard.jpg
CATEGORIES:Arnold,Central,Everything,Minnesota,Nebraska Concealed Handgun
 Training
LOCATION:Triangle Lanes\, 211 W Arnold Ave\, Arnold\, Nebraska\, 69120\, Un
 ited States
GEO:41.4226851;-100.19595850000002
X-APPLE-STRUCTURED-LOCATION;VALUE=URI;X-ADDRESS=211 W Arnold Ave\, Arnold\,
  Nebraska\, 69120\, United States;X-APPLE-RADIUS=100;X-TITLE=Triangle Lane
 s:geo:41.4226851,-100.19595850000002
END:VEVENT
BEGIN:VTIMEZONE
TZID:America/North_Dakota/Center
X-LIC-LOCATION:America/North_Dakota/Center
BEGIN:DAYLIGHT
DTSTART:20190310T030000
TZOFFSETFROM:-0600
TZOFFSETTO:-0500
TZNAME:CDT
END:DAYLIGHT
END:VTIMEZONE
END:VCALENDAR