BEGIN:VCALENDAR
VERSION:2.0
PRODID:-//wp-events-plugin.com//7.2.3.1//EN
TZID:America/North_Dakota/Center
X-WR-TIMEZONE:America/North_Dakota/Center
BEGIN:VEVENT
UID:549@nebraskashooters.com
DTSTART;TZID=America/North_Dakota/Center:20171209T090000
DTEND;TZID=America/North_Dakota/Center:20171209T180000
DTSTAMP:20171128T171835Z
URL:https://www.nebraskashooters.com/events/ccw-arnold-12-9-17/
SUMMARY:CCW- Arnold 12-9-17
DESCRIPTION:\n	Nebraska Concealed Handgun Training instructed by Lori and D
 usty Stutzman. This is the course required by the State of Nebraska to sat
 isfy the training requirements to get your Concealed Handgun Permit (CHP).
  After years of refinement our instructors have developed a course that is
  easy for the new shooter to understand while still offering excellent inf
 ormation to the experienced shooters.&nbsp\;The Nebraska Conceal Handgun T
 raining will meet requirements to get your Nebraska permit. Nebraska&rsquo
 \;s permit will enable legal concealed carry in 34&nbsp\;states. &nbsp\;Ch
 eck out the reciprocity page for more details. This class will also meet t
 he requirements for Iowa or Colorado residents to get their concealed carr
 y permit. This is a non-NRA course taught by an NRA Certified Instructor i
 n strict accordance with a state-approved lesson plan. You will also have 
 the option to add on the Minnesota Concealed Handgun training for only $20
  if you&#39\;d like.\n\n\n\n	It is required that you bring 100 rounds of a
 mmo and your favorite handgun with a dominant-side holster &nbsp\;If you n
 eed to borrow a handgun and holster\, we can provide you with the equipmen
 t and you will just need to pay for the ammunition.&nbsp\; You will also n
 eed eye and hearing protection.&nbsp\; Snacks are provided\, but you are a
 lways welcome to bring your own.&nbsp\;\n\n\n\n	Guarantee: As many of you 
 know\, there are instructors in Nebraska who are offering a quickie course
  which does not cover the required material. &nbsp\;Our classes are guaran
 teed to cover the required material so there is no risk of you losing your
  permit due to inadequate training. This also ensures that you have been i
 ntroduced to the legal responsibilities of carrying a firearm for self def
 ense which could easily save you a lot of trouble and hopefully keep you o
 ut of court.\n\n\n\n	&nbsp\;\n\n
ATTACH;FMTTYPE=image/jpeg:https://www.nebraskashooters.com/wp-content/uplo
 ads/2017/01/Nebraska-Shooters-PF-1-Billboard.jpg
CATEGORIES:Arnold,Central,Everything,Minnesota,Nebraska Concealed Handgun
 Training
LOCATION:Triangle Lanes\, 211 W Arnold Ave\, Arnold\, Nebraska\, 69120\, Un
 ited States
GEO:41.4226851;-100.19595850000002
X-APPLE-STRUCTURED-LOCATION;VALUE=URI;X-ADDRESS=211 W Arnold Ave\, Arnold\,
  Nebraska\, 69120\, United States;X-APPLE-RADIUS=100;X-TITLE=Triangle Lane
 s:geo:41.4226851,-100.19595850000002
END:VEVENT
BEGIN:VTIMEZONE
TZID:America/North_Dakota/Center
X-LIC-LOCATION:America/North_Dakota/Center
BEGIN:STANDARD
DTSTART:20171105T010000
TZOFFSETFROM:-0500
TZOFFSETTO:-0600
TZNAME:CST
END:STANDARD
END:VTIMEZONE
END:VCALENDAR