BEGIN:VCALENDAR
VERSION:2.0
PRODID:-//wp-events-plugin.com//7.2.3.1//EN
TZID:America/North_Dakota/Center
X-WR-TIMEZONE:America/North_Dakota/Center
BEGIN:VEVENT
UID:551@nebraskashooters.com
DTSTART;TZID=America/North_Dakota/Center:20180113T080000
DTEND;TZID=America/North_Dakota/Center:20180113T170000
DTSTAMP:20171128T172639Z
URL:https://www.nebraskashooters.com/events/ccw-arnold-1-13-18/
SUMMARY:Ladies CCW- Arnold 1-13-18
DESCRIPTION:\n	All Ladies Nebraska Concealed Handgun Training instructed by
  Lori and Dusty Stutzman. This is the course required by the State of Nebr
 aska to satisfy the training requirements to get your Concealed Handgun Pe
 rmit (CHP). After years of refinement our instructors have developed a cou
 rse that is easy for the new shooter to understand while still offering ex
 cellent information to the experienced shooters.&nbsp\;The Nebraska Concea
 l Handgun Training will meet requirements to get your Nebraska permit. Neb
 raska&rsquo\;s permit will enable legal concealed carry in 34&nbsp\;states
 . &nbsp\;Check out the reciprocity page for more details. This class will 
 also meet the requirements for Iowa or Colorado residents to get their con
 cealed carry permit. This is a non-NRA course taught by an NRA Certified I
 nstructor in strict accordance with a state-approved lesson plan. You will
  also have the option to add on the Minnesota Concealed Handgun training f
 or only $20 if you&#39\;d like.\n\n\n\n	It is required that you bring 100 
 rounds of ammo and your favorite handgun with a dominant-side holster &nbs
 p\;If you need to borrow a handgun and holster\, we can provide you with t
 he equipment and you will just need to pay for the ammunition.&nbsp\; You 
 will also need eye and hearing protection.&nbsp\; Snacks are provided\, bu
 t you are always welcome to bring your own.&nbsp\;\n\n\n\n	Guarantee: As m
 any of you know\, there are instructors in Nebraska who are offering a qui
 ckie course which does not cover the required material. &nbsp\;Our classes
  are guaranteed to cover the required material so there is no risk of you 
 losing your permit due to inadequate training. This also ensures that you 
 have been introduced to the legal responsibilities of carrying a firearm f
 or self defense which could easily save you a lot of trouble and hopefully
  keep you out of court.\n\n\n\n	&nbsp\;\n\n
ATTACH;FMTTYPE=image/jpeg:https://www.nebraskashooters.com/wp-content/uplo
 ads/2017/01/Nebraska-Shooters-PF-1-Billboard.jpg
CATEGORIES:Arnold,Central,Everything,Minnesota,Nebraska Concealed Handgun
 Training
LOCATION:Triangle Lanes\, 211 W Arnold Ave\, Arnold\, Nebraska\, 69120\, Un
 ited States
GEO:41.4226851;-100.19595850000002
X-APPLE-STRUCTURED-LOCATION;VALUE=URI;X-ADDRESS=211 W Arnold Ave\, Arnold\,
  Nebraska\, 69120\, United States;X-APPLE-RADIUS=100;X-TITLE=Triangle Lane
 s:geo:41.4226851,-100.19595850000002
END:VEVENT
BEGIN:VTIMEZONE
TZID:America/North_Dakota/Center
X-LIC-LOCATION:America/North_Dakota/Center
BEGIN:STANDARD
DTSTART:20171105T010000
TZOFFSETFROM:-0500
TZOFFSETTO:-0600
TZNAME:CST
END:STANDARD
END:VTIMEZONE
END:VCALENDAR