BEGIN:VCALENDAR
VERSION:2.0
PRODID:-//wp-events-plugin.com//7.2.3.1//EN
TZID:America/North_Dakota/Center
X-WR-TIMEZONE:America/North_Dakota/Center
BEGIN:VEVENT
UID:1987@nebraskashooters.com
DTSTART;TZID=America/North_Dakota/Center:20260513T180000
DTEND;TZID=America/North_Dakota/Center:20260513T200000
DTSTAMP:20260112T174904Z
URL:https://www.nebraskashooters.com/events/bullseye-practice-night-41/
SUMMARY:Bullseye Practice Night
DESCRIPTION:In preparation for upcoming shooting matches\, the Sesostris Gu
 n Club gathers weekly for practice.  In the pistol training sessions we f
 ocus primarily on bullseye skills with a minimal focus on speed or drawing
  techniques.  Anyone can join us on the range if you are interested in wo
 rking on your accuracy with a handgun or shotgun in an organized safe envi
 ronment.\n\nEach session will include coaching and discussion of various t
 echniques to improve marksmanship. Scores will be tracked so you can monit
 or your progress throughout the summer.\n\nCome join us for a quality prac
 tice session!\n\nFor Pistol Practice:\n\n 	Please bring approximately 150 
 rounds of ammo.\n 	Any caliber is acceptable for practice.\n 	Bring eye an
 d ear protection.\n 	You are required to have a holster to safely carry yo
 ur gun around the range.\n\nFor Trap Practice:\n\n 	Please bring approxima
 tely 100 rounds of shells\n 	Bring eye and ear protection\n 	Thrower will 
 be provided\, but if you could bring a box of clays from time to time to c
 ontribute to the consumables\, we would appreciate it.\n\nThese sessions w
 ill take place mostly on Wednesday or Thursday nights between 6:00 PM and 
 8:00 PM.  Please register to reserve your spot so we know how many to exp
 ect.\n\nThis is a free event\, but any free will donations will be given t
 o the Sesostris Gun Club.\n\nIf you are a previous student of Nebraska Sho
 oters\, please Log In with your username and password before registering.\
 n\n&nbsp\;\n\n&nbsp\;
ATTACH;FMTTYPE=image/jpeg:https://www.nebraskashooters.com/wp-content/uplo
 ads/2017/01/Sesostris-Gun-Club-Logo-2.jpg
CATEGORIES:Bullseye,Fun Shoot,Fund Raiser
LOCATION:Nebraska Shooters\, 3200 Gage Rd\, Firth\, Nebraska\, 68358\, Unit
 ed States
GEO:40.524337;-96.675525
X-APPLE-STRUCTURED-LOCATION;VALUE=URI;X-ADDRESS=3200 Gage Rd\, Firth\, Nebr
 aska\, 68358\, United States;X-APPLE-RADIUS=100;X-TITLE=Nebraska Shooters:
 geo:40.524337,-96.675525
END:VEVENT
BEGIN:VTIMEZONE
TZID:America/North_Dakota/Center
X-LIC-LOCATION:America/North_Dakota/Center
BEGIN:DAYLIGHT
DTSTART:20260308T030000
TZOFFSETFROM:-0600
TZOFFSETTO:-0500
TZNAME:CDT
END:DAYLIGHT
END:VTIMEZONE
END:VCALENDAR