BEGIN:VCALENDAR
VERSION:2.0
PRODID:-//wp-events-plugin.com//7.2.3.1//EN
TZID:America/North_Dakota/Center
X-WR-TIMEZONE:America/North_Dakota/Center
BEGIN:VEVENT
UID:1073@nebraskashooters.com
DTSTART;TZID=America/North_Dakota/Center:20200825T173000
DTEND;TZID=America/North_Dakota/Center:20200825T213000
DTSTAMP:20200820T184745Z
URL:https://www.nebraskashooters.com/events/basic-pistol-phase-ii-8-25-20/
SUMMARY:Basic Pistol Phase II 8-25-20
DESCRIPTION:NRA BASIC PISTOL (PHASE 2)\nThe NRA changed the way the Basic P
 istol class is conducted over the past couple of years Basic Pistol Studen
 ts now have the option to complete the Basic Pistol Level I online at nrao
 nlinetraining.org prior to completing the program with a certified instruc
 tor.  This is a blended learning program similar to many of the other pro
 grams out there that have been very successful.  This will allow you to c
 omplete the "classroom" portion at your convenience on your schedule.  It
  is recommended that you allow yourself at least 8 hours to complete the c
 ourse and you should plan on taking a break about every hour for maximum r
 etention.  The code to begin the online course (Phase 1) will be sent whe
 n you register for the Phase 2 session.\n\nUpon completion of the online c
 ourse we will be notified that you are ready to proceed.  During the Leve
 l 2 portion we will review the safety rules and shooting fundamentals you 
 learned in the online portion and then we will proceed to conduct the prac
 tical portion of the course.  We will be shooting from the bench rest and
  the standing position and after some practice\, you will be given an oppo
 rtunity to qualify as a Red\, White\, or Blue graduate.   If we do not c
 omplete the course in the time allotted\, you will be able to come to the 
 next scheduled Phase 2 course and complete the required shooting at no ext
 ra charge.\n\nThis is a new program and we are excited to be able to offer
  it to the new shooters who are wanting to start out with a great foundati
 on to build upon.  If you have any questions about this please feel free 
 to contact one of our certified NRA instructors.\n\nYou can purchase your 
 code directly from the NRA website for $60 or you can register for the Pha
 se to and it will be included for only $25.
ATTACH;FMTTYPE=image/jpeg:https://www.nebraskashooters.com/wp-content/uplo
 ads/2017/01/Nebraska-Shooters-PF-1-Billboard.jpg
CATEGORIES:Basic Pistol,Everything,NRA Student Courses
LOCATION:Nebraska Shooters\, 3200 Gage Rd\, Firth\, Nebraska\, 68358\, Unit
 ed States
GEO:40.524337;-96.675525
X-APPLE-STRUCTURED-LOCATION;VALUE=URI;X-ADDRESS=3200 Gage Rd\, Firth\, Nebr
 aska\, 68358\, United States;X-APPLE-RADIUS=100;X-TITLE=Nebraska Shooters:
 geo:40.524337,-96.675525
END:VEVENT
BEGIN:VTIMEZONE
TZID:America/North_Dakota/Center
X-LIC-LOCATION:America/North_Dakota/Center
BEGIN:DAYLIGHT
DTSTART:20200308T030000
TZOFFSETFROM:-0600
TZOFFSETTO:-0500
TZNAME:CDT
END:DAYLIGHT
END:VTIMEZONE
END:VCALENDAR