BEGIN:VCALENDAR
VERSION:2.0
PRODID:-//wp-events-plugin.com//7.2.3.1//EN
TZID:America/North_Dakota/Center
X-WR-TIMEZONE:America/North_Dakota/Center
BEGIN:VEVENT
UID:455@nebraskashooters.com
DTSTART;TZID=America/North_Dakota/Center:20170721T180000
DTEND;TZID=America/North_Dakota/Center:20170721T220000
DTSTAMP:20170503T191703Z
URL:https://www.nebraskashooters.com/events/basic-pistol-phase-ii-7-21-17/
SUMMARY:Basic Pistol Phase II 7-21-17
DESCRIPTION:\n	The NRA has changed the way the Basic Pistol class is conduc
 ted over the past few months and after May 15\, all Basic Pistol Students 
 will be required to complete the Basic Pistol Level I online at nraonlinet
 raining.org prior to completing the program with a certified instructor. &
 nbsp\;This is a blended learning program similar to many of the other prog
 rams out there that have been very successful. &nbsp\;This will allow you 
 to complete the &quot\;classroom&quot\; portion at your convenience on you
 r schedule. &nbsp\;It is recommended that you allow yourself at least 8 ho
 urs to complete the course and you should plan on taking a break about eve
 ry hour for maximum retention. &nbsp\;If you would like a coupon code to b
 egin your online course please select the &quot\;Phase 1 Coupon Code&quot\
 ; below to get the special $25 rate. &nbsp\;Otherwise\, it will cost $60 t
 hrough the NRA.\n\n\n\n	Upon completion of the online course you will rece
 ive a PIN number which will be required to register for the Level II porti
 on of the class. Please enter your PIN number in the comments section on t
 he registration form. &nbsp\;During the Level II portion we will review th
 e safety rules and shooting fundamentals you learned in the online portion
  and then we will proceed to conduct the practical portion of the course. 
 &nbsp\;We will be shooting from the bench rest and the standing position a
 nd after some practice\, you will be given an opportunity to qualify as a 
 Red White or Blue graduate. &nbsp\;The course will be conducted in the eve
 ning and since it is objective based\, we will proceed until we are done o
 r until it is too late. &nbsp\;If we do not complete the course in the tim
 e alotted\, you will be able to come to the next scheduled Level II course
  and complete the required shooting.\n\n\n\n	This is a new program and we 
 are excited to be able to offer it to the new shooters who are wanting to 
 start out with a great foundation to build upon. &nbsp\;If you have any qu
 estions about this please feel free to contact one of our certified NRA in
 structors.&nbsp\;&nbsp\;\n\n
CATEGORIES:Basic Pistol,Everything,NRA Student Courses
LOCATION:Nebraska Shooters\, 3200 Gage Rd\, Firth\, Nebraska\, 68358\, Unit
 ed States
GEO:40.524337;-96.675525
X-APPLE-STRUCTURED-LOCATION;VALUE=URI;X-ADDRESS=3200 Gage Rd\, Firth\, Nebr
 aska\, 68358\, United States;X-APPLE-RADIUS=100;X-TITLE=Nebraska Shooters:
 geo:40.524337,-96.675525
END:VEVENT
BEGIN:VTIMEZONE
TZID:America/North_Dakota/Center
X-LIC-LOCATION:America/North_Dakota/Center
BEGIN:DAYLIGHT
DTSTART:20170312T030000
TZOFFSETFROM:-0600
TZOFFSETTO:-0500
TZNAME:CDT
END:DAYLIGHT
END:VTIMEZONE
END:VCALENDAR