BEGIN:VCALENDAR
VERSION:2.0
PRODID:-//wp-events-plugin.com//7.2.3.1//EN
TZID:America/North_Dakota/Center
X-WR-TIMEZONE:America/North_Dakota/Center
BEGIN:VEVENT
UID:771@nebraskashooters.com
DTSTART;TZID=America/North_Dakota/Center:20190205T170000
DTEND;TZID=America/North_Dakota/Center:20190205T220000
DTSTAMP:20190201T195148Z
URL:https://www.nebraskashooters.com/events/basic-pistol-phase-ii-2-5-19/
SUMMARY:Basic Pistol Phase II 2-5-19
DESCRIPTION:The NRA changed the way the Basic Pistol class is conducted ove
 r the past couple of years Basic Pistol Students now have the option to co
 mplete the Basic Pistol Level I online at nraonlinetraining.org prior to c
 ompleting the program with a certified instructor.  This is a blended lea
 rning program similar to many of the other programs out there that have be
 en very successful.  This will allow you to complete the "classroom" port
 ion at your convenience on your schedule.  It is recommended that you all
 ow yourself at least 8 hours to complete the course and you should plan on
  taking a break about every hour for maximum retention.  The code to begi
 n your online course is $25 if you include it with your Phase 2 registrati
 on.  Otherwise\, the online course will cost $60 through the NRA.\n\nUpon
  completion of the online course we will be notified that you are ready to
  proceed.  During the Level II portion we will review the safety rules an
 d shooting fundamentals you learned in the online portion and then we will
  proceed to conduct the practical portion of the course.  We will be shoo
 ting from the bench rest and the standing position and after some practice
 \, you will be given an opportunity to qualify as a Red White or Blue grad
 uate.  The course will be conducted in the evening and since it is object
 ive based\, we will proceed until we are done or until it is too late.  I
 f we do not complete the course in the time alotted\, you will be able to 
 come to the next scheduled Level II course and complete the required shoot
 ing.\n\nThis is a new program and we are excited to be able to offer it to
  the new shooters who are wanting to start out with a great foundation to 
 build upon.  If you have any questions about this please feel free to con
 tact one of our certified NRA instructors.
ATTACH;FMTTYPE=image/jpeg:https://www.nebraskashooters.com/wp-content/uplo
 ads/2017/01/Nebraska-Shooters-PF-1-Billboard.jpg
CATEGORIES:Basic Pistol,Everything,NRA Student Courses
LOCATION:Nebraska Shooters\, 3200 Gage Rd\, Firth\, Nebraska\, 68358\, Unit
 ed States
GEO:40.524337;-96.675525
X-APPLE-STRUCTURED-LOCATION;VALUE=URI;X-ADDRESS=3200 Gage Rd\, Firth\, Nebr
 aska\, 68358\, United States;X-APPLE-RADIUS=100;X-TITLE=Nebraska Shooters:
 geo:40.524337,-96.675525
END:VEVENT
BEGIN:VTIMEZONE
TZID:America/North_Dakota/Center
X-LIC-LOCATION:America/North_Dakota/Center
BEGIN:STANDARD
DTSTART:20181104T010000
TZOFFSETFROM:-0500
TZOFFSETTO:-0600
TZNAME:CST
END:STANDARD
END:VTIMEZONE
END:VCALENDAR