BEGIN:VCALENDAR
VERSION:2.0
PRODID:-//wp-events-plugin.com//7.2.3.1//EN
TZID:America/North_Dakota/Center
X-WR-TIMEZONE:America/North_Dakota/Center
BEGIN:VEVENT
UID:1998@nebraskashooters.com
DTSTART;TZID=America/North_Dakota/Center:20261017T120000
DTEND;TZID=America/North_Dakota/Center:20261017T160000
DTSTAMP:20260311T211122Z
URL:https://www.nebraskashooters.com/events/balloon-shoot-3/
SUMMARY:Balloon Shoot
DESCRIPTION:Highland Lodge #194 and Nebraska Shooters are proud to present 
 the first annual balloon shoot!\n\nPrizes and trophies will be awarded to 
 top shots in multiple categories including Novice\, Open Sights\, Optic\, 
 and Rimfire.  (Multiple entries allowed per person)\n\nCompetitors will b
 e provided with lunch at noon.  Shooting will begin at 1:00 PM.  If you 
 are new to handguns or just a little rusty\, please consider signing up fo
 r the Intro to Handguns class in the morning which includes a spot in the 
 BALLOON SHOOT.\n\nThe competition will be based on firing 24 shots at a B8
  bullseye target with a balloon attached to the bottom.  The balloon must
  be popped to get a score.  All remaining shots can be placed on the bull
 seye.  Novice shooters will shoot from 15 yards and all others will shoot
  from 25 yards.\n\nProceeds will go to the Highland Lodge in Cortland\, NE
 .
ATTACH;FMTTYPE=image/jpeg:https://www.nebraskashooters.com/wp-content/uplo
 ads/2023/06/group-of-colorful-balloons-isolated.png
CATEGORIES:Everything,Fun Shoot,Fund Raiser
LOCATION:Nebraska Shooters\, 3200 Gage Rd\, Firth\, Nebraska\, 68358\, Unit
 ed States
GEO:40.524337;-96.675525
X-APPLE-STRUCTURED-LOCATION;VALUE=URI;X-ADDRESS=3200 Gage Rd\, Firth\, Nebr
 aska\, 68358\, United States;X-APPLE-RADIUS=100;X-TITLE=Nebraska Shooters:
 geo:40.524337,-96.675525
END:VEVENT
BEGIN:VTIMEZONE
TZID:America/North_Dakota/Center
X-LIC-LOCATION:America/North_Dakota/Center
BEGIN:DAYLIGHT
DTSTART:20260308T030000
TZOFFSETFROM:-0600
TZOFFSETTO:-0500
TZNAME:CDT
END:DAYLIGHT
END:VTIMEZONE
END:VCALENDAR