BEGIN:VCALENDAR
VERSION:2.0
PRODID:-//wp-events-plugin.com//7.2.3.1//EN
TZID:America/North_Dakota/Center
X-WR-TIMEZONE:America/North_Dakota/Center
BEGIN:VEVENT
UID:1072@nebraskashooters.com
DTSTART;TZID=America/North_Dakota/Center:20201114T080000
DTEND;TZID=America/North_Dakota/Center:20201114T170000
DTSTAMP:20201104T175228Z
URL:https://www.nebraskashooters.com/events/arnold-ladies-ccw-11-14-2020/
SUMMARY:Arnold-Ladies CCW 11/14/2020
DESCRIPTION:Ladies Only Concealed Handgun Training\ninstructed by Lori and 
 Dusty Stutzman.\nThis is the course required by the State of Nebraska to s
 atisfy the training requirements to get your Concealed Handgun Permit (CHP
 ). After years of refinement our instructors have developed a course that 
 is easy for the new shooter to understand while still offering excellent i
 nformation to the experienced shooters. The Nebraska Conceal Handgun Train
 ing will meet requirements to get your Nebraska permit. Nebraska’s permi
 t will enable legal concealed carry in 34 states.  Check out the reciproc
 ity page for more details. This class will also meet the requirements for 
 Iowa or Colorado residents to get their concealed carry permit. This is a 
 non-NRA course taught by an NRA Certified Instructor in strict accordance 
 with a state-approved lesson plan. You will also have the option to add on
  the Minnesota Concealed Handgun training for only $20 if you'd like.\n\nI
 t is required that you bring 100 rounds of ammo and your favorite handgun 
 with a dominant-side holster  If you need to borrow a handgun and holster
 \, we can provide you with the equipment and you will just need to pay for
  the ammunition.  You will also need eye and hearing protection.  Snacks
  are provided\, but you are always welcome to bring your own. \n\nGuarant
 ee: As many of you know\, there are instructors in Nebraska who are offeri
 ng a quickie course which does not cover the required material.  Our clas
 ses are guaranteed to cover the required material so there is no risk of y
 ou losing your permit due to inadequate training. This also ensures that y
 ou have been introduced to the legal responsibilities of carrying a firear
 m for self defense which could easily save you a lot of trouble and hopefu
 lly keep you out of court.\n\nIf you need to withdraw\, please give plenty
  of notice.  Read our REFUND POLICY HERE.\n\nEach student will need to r
 egister separately.  Each student needs to have their own email address. 
 Please double check your name as it appears on your driver’s license bec
 ause your certificate will need to match exactly.  (Include middle name o
 r initial if it is on your DL)\n\nBring a friend and get a discount follow
 ing THESE INSTRUCTIONS.
ATTACH;FMTTYPE=image/jpeg:https://www.nebraskashooters.com/wp-content/uplo
 ads/2019/08/ladies.jpg
CATEGORIES:Arnold,Central,Everything,Minnesota,Nebraska Concealed Handgun
 Training
LOCATION:Triangle Lanes\, 211 W Arnold Ave\, Arnold\, Nebraska\, 69120\, Un
 ited States
GEO:41.4226851;-100.19595850000002
X-APPLE-STRUCTURED-LOCATION;VALUE=URI;X-ADDRESS=211 W Arnold Ave\, Arnold\,
  Nebraska\, 69120\, United States;X-APPLE-RADIUS=100;X-TITLE=Triangle Lane
 s:geo:41.4226851,-100.19595850000002
END:VEVENT
BEGIN:VTIMEZONE
TZID:America/North_Dakota/Center
X-LIC-LOCATION:America/North_Dakota/Center
BEGIN:STANDARD
DTSTART:20201101T010000
TZOFFSETFROM:-0500
TZOFFSETTO:-0600
TZNAME:CST
END:STANDARD
END:VTIMEZONE
END:VCALENDAR