BEGIN:VCALENDAR
VERSION:2.0
PRODID:-//wp-events-plugin.com//7.2.3.1//EN
TZID:America/North_Dakota/Center
X-WR-TIMEZONE:America/North_Dakota/Center
BEGIN:VEVENT
UID:1067@nebraskashooters.com
DTSTART;TZID=America/North_Dakota/Center:20201024T080000
DTEND;TZID=America/North_Dakota/Center:20201024T170000
DTSTAMP:20200917T143529Z
URL:https://www.nebraskashooters.com/events/arnold-ccw-10-24-2020/
SUMMARY:Arnold-CCW 10/24/2020
DESCRIPTION:Nebraska Concealed Handgun Training\ninstructed by Lori and Dus
 ty Stutzman.\nThis is the course required by the State of Nebraska to sati
 sfy the training requirements to get your Concealed Handgun Permit (CHP). 
 After years of refinement our instructors have developed a course that is 
 easy for the new shooter to understand while still offering excellent info
 rmation to the experienced shooters. The Nebraska Conceal Handgun Training
  will meet requirements to get your Nebraska permit. Nebraska’s permit w
 ill enable legal concealed carry in 34 states.  Check out the reciprocity
  page for more details. This class will also meet the requirements for Iow
 a or Colorado residents to get their concealed carry permit. This is a non
 -NRA course taught by an NRA Certified Instructor in strict accordance wit
 h a state-approved lesson plan. You will also have the option to add on th
 e Minnesota Concealed Handgun training for only $20 if you'd like.\n\nIt i
 s required that you bring:\n\n 100 rounds of ammo\n\nhandgun\n\ndominant-s
 ide holster &amp\; belt\n\nEye and hearing protection. (Prescription eyegl
 asses are acceptable)\n\nIf you need to borrow a handgun and holster\, we 
 can provide you with the equipment and you will just need to bring the amm
 unition.  Snacks are provided\, but you are always welcome to bring your 
 own. \n\nGuarantee: As many of you know\, there are instructors in Nebras
 ka who are offering a quickie course which does not cover the required mat
 erial.  Our classes are guaranteed to cover the required material so ther
 e is no risk of you losing your permit due to inadequate training. This al
 so ensures that you have been introduced to the legal responsibilities of 
 carrying a firearm for self defense which could easily save you a lot of t
 rouble and hopefully keep you out of court.\n\nIf you need to withdraw\, p
 lease give plenty of notice.  Read our REFUND POLICY HERE.\n\nEach studen
 t will need to register separately.  Each student needs to have their own
  email address. Please double check your name as it appears on your driver
 's license because your certificate will need to match exactly.  (Include
  middle name or initial if it is on your DL)\n\nBring a friend and get a d
 iscount following THESE INSTRUCTIONS.
ATTACH;FMTTYPE=image/jpeg:https://www.nebraskashooters.com/wp-content/uplo
 ads/2017/01/Nebraska-Shooters-PF-1-Billboard.jpg
CATEGORIES:Arnold,Central,Everything,Minnesota,Nebraska Concealed Handgun
 Training
LOCATION:Triangle Lanes\, 211 W Arnold Ave\, Arnold\, Nebraska\, 69120\, Un
 ited States
GEO:41.4226851;-100.19595850000002
X-APPLE-STRUCTURED-LOCATION;VALUE=URI;X-ADDRESS=211 W Arnold Ave\, Arnold\,
  Nebraska\, 69120\, United States;X-APPLE-RADIUS=100;X-TITLE=Triangle Lane
 s:geo:41.4226851,-100.19595850000002
END:VEVENT
BEGIN:VTIMEZONE
TZID:America/North_Dakota/Center
X-LIC-LOCATION:America/North_Dakota/Center
BEGIN:DAYLIGHT
DTSTART:20200308T030000
TZOFFSETFROM:-0600
TZOFFSETTO:-0500
TZNAME:CDT
END:DAYLIGHT
END:VTIMEZONE
END:VCALENDAR