BEGIN:VCALENDAR
VERSION:2.0
PRODID:-//wp-events-plugin.com//7.2.3.1//EN
TZID:America/North_Dakota/Center
X-WR-TIMEZONE:America/North_Dakota/Center
BEGIN:VEVENT
UID:1946@nebraskashooters.com
DTSTART;TZID=America/North_Dakota/Center:20260728T180000
DTEND;TZID=America/North_Dakota/Center:20260728T200000
DTSTAMP:20251106T224748Z
URL:https://www.nebraskashooters.com/events/armed-women-of-america-20/
SUMMARY:Armed Women of America
DESCRIPTION:\n 	Armed Women of America Monthly Meeting\n 	Celebrate America
 's 250th Birthday on the range and go on Paul Revere's ride fighting off t
 he British through the countryside.\n\n\n\nLadies\, come join the Gage Cou
 nty AWA group and learn about all facets of firearm ownership.  Visitors 
 are welcome to check it out and decide if you are interested in becoming a
  member.  Activities include educational seminars\, live fire range activ
 ities and social time with like-minded ladies.\n\nMeetings start at 6:00 P
 M.  Please try and be a little early so we can maximize our time on the r
 ange.\n\nPlease feel free to contact Jan Reiss or Jolene Allen for more in
 formation.\n\n&nbsp\;
ATTACH;FMTTYPE=image/jpeg:https://www.nebraskashooters.com/wp-content/uplo
 ads/2024/07/ArmedWomenofAmericaLogo.jpg
CATEGORIES:Everything
LOCATION:Nebraska Shooters\, 3200 Gage Rd\, Firth\, Nebraska\, 68358\, Unit
 ed States
GEO:40.524337;-96.675525
X-APPLE-STRUCTURED-LOCATION;VALUE=URI;X-ADDRESS=3200 Gage Rd\, Firth\, Nebr
 aska\, 68358\, United States;X-APPLE-RADIUS=100;X-TITLE=Nebraska Shooters:
 geo:40.524337,-96.675525
END:VEVENT
BEGIN:VTIMEZONE
TZID:America/North_Dakota/Center
X-LIC-LOCATION:America/North_Dakota/Center
BEGIN:DAYLIGHT
DTSTART:20260308T030000
TZOFFSETFROM:-0600
TZOFFSETTO:-0500
TZNAME:CDT
END:DAYLIGHT
END:VTIMEZONE
END:VCALENDAR