BEGIN:VCALENDAR
VERSION:2.0
PRODID:-//wp-events-plugin.com//7.2.3.1//EN
TZID:America/North_Dakota/Center
X-WR-TIMEZONE:America/North_Dakota/Center
BEGIN:VEVENT
UID:1943@nebraskashooters.com
DTSTART;TZID=America/North_Dakota/Center:20260428T180000
DTEND;TZID=America/North_Dakota/Center:20260428T200000
DTSTAMP:20251106T224122Z
URL:https://www.nebraskashooters.com/events/armed-women-of-america-17/
SUMMARY:Armed Women of America
DESCRIPTION:\n 	Armed Women of America Monthly Meeting\n 	Carnival Night. 
  Cotton Candy\, Hot Dogs\, Explosives.  What else could you ask for?  Pl
 ease bring your own pistol and some ammo for a portion of the activities.\
 n\n\n\nLadies\, come join the Gage County AWA group and learn about all fa
 cets of firearm ownership.  Visitors are welcome to check it out and deci
 de if you are interested in becoming a member.  Activities include educat
 ional seminars\, live fire range activities and social time with like-mind
 ed ladies.\n\nMeetings start at 6:00 PM.  Please try and be a little earl
 y so we can maximize our time on the range.\n\nPlease feel free to contact
  Jan Reiss or Jolene Allen for more information.\n\n&nbsp\;
ATTACH;FMTTYPE=image/jpeg:https://www.nebraskashooters.com/wp-content/uplo
 ads/2024/07/ArmedWomenofAmericaLogo.jpg
CATEGORIES:Everything
LOCATION:Nebraska Shooters\, 3200 Gage Rd\, Firth\, Nebraska\, 68358\, Unit
 ed States
GEO:40.524337;-96.675525
X-APPLE-STRUCTURED-LOCATION;VALUE=URI;X-ADDRESS=3200 Gage Rd\, Firth\, Nebr
 aska\, 68358\, United States;X-APPLE-RADIUS=100;X-TITLE=Nebraska Shooters:
 geo:40.524337,-96.675525
END:VEVENT
BEGIN:VTIMEZONE
TZID:America/North_Dakota/Center
X-LIC-LOCATION:America/North_Dakota/Center
BEGIN:DAYLIGHT
DTSTART:20260308T030000
TZOFFSETFROM:-0600
TZOFFSETTO:-0500
TZNAME:CDT
END:DAYLIGHT
END:VTIMEZONE
END:VCALENDAR