BEGIN:VCALENDAR
VERSION:2.0
PRODID:-//wp-events-plugin.com//7.2.3.1//EN
TZID:America/North_Dakota/Center
X-WR-TIMEZONE:America/North_Dakota/Center
BEGIN:VEVENT
UID:1941@nebraskashooters.com
DTSTART;TZID=America/North_Dakota/Center:20260224T180000
DTEND;TZID=America/North_Dakota/Center:20260224T200000
DTSTAMP:20251106T223531Z
URL:https://www.nebraskashooters.com/events/armed-women-of-america-15/
SUMMARY:Armed Women of America
DESCRIPTION:\n 	Armed Women of America Monthly Meeting\n 	Laser shooting\n 
 	Pepper Spray the attach robot\n 	Room Clearing\n 	Improving shooting tech
 niques with the Mantis Stystem\n\n\n\nLadies\, come join the Gage County A
 WA group and learn about all facets of firearm ownership.  Visitors are w
 elcome to check it out and decide if you are interested in becoming a memb
 er.  Activities include educational seminars\, live fire range activities
  and social time with like-minded ladies.\n\nMeetings start at 6:00 PM.  
 Please try and be a little early so we can maximize our time on the range.
 \n\nPlease feel free to contact Jan Reiss or Jolene Allen for more informa
 tion.\n\n&nbsp\;
ATTACH;FMTTYPE=image/jpeg:https://www.nebraskashooters.com/wp-content/uplo
 ads/2024/07/ArmedWomenofAmericaLogo.jpg
CATEGORIES:Everything
LOCATION:Nebraska Shooters\, 3200 Gage Rd\, Firth\, Nebraska\, 68358\, Unit
 ed States
GEO:40.524337;-96.675525
X-APPLE-STRUCTURED-LOCATION;VALUE=URI;X-ADDRESS=3200 Gage Rd\, Firth\, Nebr
 aska\, 68358\, United States;X-APPLE-RADIUS=100;X-TITLE=Nebraska Shooters:
 geo:40.524337,-96.675525
END:VEVENT
BEGIN:VTIMEZONE
TZID:America/North_Dakota/Center
X-LIC-LOCATION:America/North_Dakota/Center
BEGIN:STANDARD
DTSTART:20251102T010000
TZOFFSETFROM:-0500
TZOFFSETTO:-0600
TZNAME:CST
END:STANDARD
END:VTIMEZONE
END:VCALENDAR