BEGIN:VCALENDAR
VERSION:2.0
PRODID:-//wp-events-plugin.com//7.2.3.1//EN
TZID:America/North_Dakota/Center
X-WR-TIMEZONE:America/North_Dakota/Center
BEGIN:VEVENT
UID:813@nebraskashooters.com
DTSTART;TZID=America/North_Dakota/Center:20190704T170000
DTEND;TZID=America/North_Dakota/Center:20190704T233000
DTSTAMP:20190704T143226Z
URL:https://www.nebraskashooters.com/events/alumni-event-2019/
SUMMARY:Alumni Event 2019
DESCRIPTION:We'd like to invite all of our alumni and their guest to spend 
 the 4th with us.  This will only be $20 per person. This includes entry f
 ees for competitions\, meal\, and live entertainment.  All top shot winne
 rs who wear their hat will get free admission.\n\n&nbsp\;\n\nWe plan on st
 arting the pin shoot and steel challenge around 5:00.  We will also have 
 several other ranges open for some fun shooting.  Bring your favorite han
 dgun and plenty of ammo!\n\nWinners will win a jackpot cash prize.\n\n&nbs
 p\;\n\n&nbsp\;\n\nWe will then serve supper around 7 and the band will sta
 rt shortly afterward.  Once the firearms are properly stored\, this will 
 be a BYOB event.\n\n&nbsp\;\n\n&nbsp\;\n\n&nbsp\;\n\nWe will get the bonfi
 re fired up and we will break for a firework display after dark.\n\n&nbsp\
 ;\n\n&nbsp\;\n\n&nbsp\;\n\n&nbsp\;
ATTACH;FMTTYPE=image/jpeg:https://www.nebraskashooters.com/wp-content/uplo
 ads/2019/05/4thofjuly.jpg
CATEGORIES:Everything
LOCATION:Nebraska Shooters\, 3200 Gage Rd\, Firth\, Nebraska\, 68358\, Unit
 ed States
GEO:40.524337;-96.675525
X-APPLE-STRUCTURED-LOCATION;VALUE=URI;X-ADDRESS=3200 Gage Rd\, Firth\, Nebr
 aska\, 68358\, United States;X-APPLE-RADIUS=100;X-TITLE=Nebraska Shooters:
 geo:40.524337,-96.675525
END:VEVENT
BEGIN:VTIMEZONE
TZID:America/North_Dakota/Center
X-LIC-LOCATION:America/North_Dakota/Center
BEGIN:DAYLIGHT
DTSTART:20190310T030000
TZOFFSETFROM:-0600
TZOFFSETTO:-0500
TZNAME:CDT
END:DAYLIGHT
END:VTIMEZONE
END:VCALENDAR