BEGIN:VCALENDAR
VERSION:2.0
PRODID:-//wp-events-plugin.com//7.2.3.1//EN
TZID:America/North_Dakota/Center
X-WR-TIMEZONE:America/North_Dakota/Center
BEGIN:VEVENT
UID:1074@nebraskashooters.com
DTSTART;TZID=America/North_Dakota/Center:20200912T080000
DTEND;TZID=America/North_Dakota/Center:20200912T173000
DTSTAMP:20200828T202751Z
URL:https://www.nebraskashooters.com/events/albion-ccw-9-12-20/
SUMMARY:Albion-CCW 9-12-20
DESCRIPTION:This  Nebraska Concealed Carry class is at the TK Gun and Rang
 e Loretto\, Nebraska.\n\n\n\nThis Nebraska Concealed Handgun Training wil
 l be instructed by Randel Schnebel. This is the course required by the Sta
 te of Nebraska to satisfy the training requirements to get your Concealed 
 Handgun Permit (CHP). After years of refinement our instructors have devel
 oped a course that is easy for the new shooter to understand while still o
 ffering excellent information to the experienced shooters. The Nebraska Co
 nceal Handgun Training will meet requirements to get your Nebraska permit.
  Nebraska’s permit will enable legal concealed carry in 34 states.  Che
 ck out the reciprocity page for more details. This class will also meet th
 e requirements for Wyoming\, Iowa or Colorado residents to get their conce
 aled carry permit. This is a non-NRA course taught by an NRA Certified Ins
 tructor in strict accordance with a state-approved lesson plan.\n\nIt is r
 equired that you bring\n\n 	 100 rounds of ammo \n 	handgun \n 	dominant-s
 ide holster and belt\n 	eye and hearing protection\n 	Please bring a sack 
 lunch.\nIf you need to borrow a handgun and holster\, we can provide you w
 ith the equipment if you give us a heads up before class. You will just ne
 ed to provide the ammunition.  Drinks and snacks will be available throug
 hout the day.\n\nGuarantee: As many of you know\, there are instructors in
  Nebraska who are offering a quickie course which does not cover the requi
 red material.  Our classes are guaranteed to cover the required material 
 so there is no risk of you losing your permit due to inadequate training. 
 This also ensures that you have been introduced to the legal responsibilit
 ies of carrying a firearm for self defense which could easily save you a l
 ot of trouble and hopefully keep you out of court.\n\nFor those seeking th
 e Minnesota Non-Resident\, please keep in mind that the Minnesota training
  requires much of the material that is our Nebraska Shooters Nebraska Conc
 ealed Handgun Course. If you took your Nebraska course elsewhere\, you wil
 l need to take advantage of our free refresher course and attend the entir
 e day to meet the requirements. If you took your CHP course through us\, y
 ou can simply attend the Minnesota portion which should begin around 5:00 
 pm.\n\nGroup discounts are available- Click here for details
ATTACH;FMTTYPE=image/jpeg:https://www.nebraskashooters.com/wp-content/uplo
 ads/2018/07/ComeSeeNS.jpg
CATEGORIES:Albion,Everything,Nebraska Concealed Handgun
 Training,Norfolk,Pierce
LOCATION:TK Gun and Range - Loretto\, 2048 2nd Street\, Loretto\, Nebraska\
 , 68620\, Boone County\, United States
GEO:41.764044;-98.079018
X-APPLE-STRUCTURED-LOCATION;VALUE=URI;X-ADDRESS=2048 2nd Street\, Loretto\,
  Nebraska\, 68620\, Boone County\, United States;X-APPLE-RADIUS=100;X-TITL
 E=TK Gun and Range - Loretto:geo:41.764044,-98.079018
END:VEVENT
BEGIN:VTIMEZONE
TZID:America/North_Dakota/Center
X-LIC-LOCATION:America/North_Dakota/Center
BEGIN:DAYLIGHT
DTSTART:20200308T030000
TZOFFSETFROM:-0600
TZOFFSETTO:-0500
TZNAME:CDT
END:DAYLIGHT
END:VTIMEZONE
END:VCALENDAR