BEGIN:VCALENDAR
VERSION:2.0
PRODID:-//wp-events-plugin.com//7.2.3.1//EN
TZID:America/North_Dakota/Center
X-WR-TIMEZONE:America/North_Dakota/Center
BEGIN:VEVENT
UID:1100@nebraskashooters.com
DTSTART;TZID=America/North_Dakota/Center:20210605T083000
DTEND;TZID=America/North_Dakota/Center:20210605T173000
DTSTAMP:20250108T214924Z
URL:https://www.nebraskashooters.com/events/advanced-pistol-norm-hood-3/
SUMMARY:Advanced Pistol - Norm Hood
DESCRIPTION:Advance Defensive Pistol\nTaught by Norm Hood\nDefensive Soluti
 ons LLC\nCOME CHECK YOUR PISTOL SKILLS \nThe Advanced Defensive Pistol Ski
 lls class is your opportunity to test your fundamental skills and practice
  what you may called upon to do in a real encounter. You will learn to do 
 the things you already do well in new positions and in different context t
 o really figure out if you know how to run the gun correctly.\nCLASS SIZE 
 IS LIMITED\, MUST SIGN UP BEFORE THE CLASS\nWHERE:Nebraska Shooters 3200 G
 age Rd Firth\, NE 68358\nWHEN: Saturday\, June 5th 8:30am – 5pm\nCOST: $
 150 You will need at least 250 rounds of ammunition\, 2 magazines or speed
  loaders (if shooting a revolver)\, any carry holster that covers the trig
 ger guard\, magazine holder or speed loader pouch. Please bring a sack lun
 ch.  Free bunkhouse accommodations are available onsite if you reserve a 
 room below.\nFor more information email Norm Hood defensivesolutions.sb@gm
 ail.com  or Justin Grusing at justin@nebraskashooters.com\nThank you for 
 choosing Defensive Solutions LLC for your training needs. We look forward 
 to assisting you in keeping your flock safe.\nMISSION STATEMENT\nDEFENSIVE
  SOLUTIONS LLC specializes in promoting firearm safety for all individuals
 \, from the novice gun owner desiring to learn how to properly operate a w
 eapon system to the advanced user desiring to hone skills. DEFENSIVE SOLUT
 IONS LLC offers a variety of classes in firearms safety and weapons handli
 ng. A professional instructor providing quality training in the following 
 defensive weapons courses: concealed carry\, defensive handgun training\, 
 defensive revolver training\, defensive shotgun training\, Ladies only def
 ensive handgun training\, tactical carbine training\, Youth Classes\, vari
 ed NRA established courses\, OC (pepper spray) Training\, ASP expandable b
 aton training\, less-lethal\, situational awareness and unarmed control te
 chniques. Private lessons are available.\nIn today's society\, it is likel
 y that you or someone you know will be required to protect themselves or t
 heir family. DEFENSIVE SOLUTIONS LLC provides you with the knowledge\, ski
 lls and equipment to do so\, both safely and effectively!\nWe work closely
  with other Professional Instructors and Organizations\, knowledgeable mem
 bers of the firearm’s industry\, members of the Church Security Alliance
 \, Armed Citizens Legal Defense Network\, South Bend Police\, St. Joseph C
 ounty Police\, Indiana State Troopers and Federal Marshals to provide you 
 the best training within the state.\nIn addition\, DEFENSIVE SOLUTIONS LLC
  offers quality equipment and accessory suggestions to keep you on top of 
 your game. Products are top of the line\, well respected and commonly used
  by law enforcement\, military and security professional’s\, other instr
 uctor’s and top competitors.\nWE STRIVE TO SEND YOU HOME SAFE TO YOUR FA
 MILY\nDECIDE\nTRAIN\nPRACTICE\nMAINTAIN\nINSTRUCTOR/SENSEI BIOGRAPHY\nNorm
 an Hood retired as a Command Sergeant Major from the US Army after 24 year
 s of service and then spent six years with the Alaska State Troopers inclu
 ding being a Field Training Officer before entering Government Security Co
 ntract positions. Norm has more than 46 years experience in operational la
 w enforcement\, training\, logistical and support planning for private sec
 urity companies\, military and state police organizations. He is a certifi
 ed instructor of law enforcement subjects by the Alaska Police Standards C
 ouncil. He has Extensive “Use of Force” training experience with letha
 l and less-lethal weapons and 30 plus years conducting rifle\, pistol and 
 shotgun training\, including Concealed Carry courses as an independent con
 tractor with a private firearms academy in Alaska and as a former adjunct 
 instructor at Blackwater Worldwide\, Inc. Norm is a NRA instructor certifi
 ed in Pistol\, Rifle\, Shotgun\, Refuse to be a Victim\, and Chief Range S
 afety Officer and holds the “NRA Distinguished Expert Pistol and Shotgun
 ” rating and has been appointed by the NRA as an Advanced Defensive Pist
 ol Instructor. Norm has graduated from the Anchorage Police Department Cit
 izens Academy\, the South Bend Citizens Police Academy and the St. Joseph 
 County Citizens Police Academy. Norm is a member of the Church Security Al
 liance and is an Affiliate Instructor\, Armed Citizens Legal Defense Netwo
 rk. He is a member of the International Law Enforcement Educators and Trai
 ners Association (ILEETA)\, Illinois Tactical Officers Association (IOTA)\
 , and is certified by the State of Indiana as an Emergency Medical Respond
 er\, the State of Illinois as a Certified Firearms Instructor\, Illinois C
 oncealed Carry Firearms Instructor\, GLOCK Armorer\, and FEMA as an Active
  Shooter Responder Trainer. Norm is Yondan\, 4th Dan (4th degree Black Bel
 t) in Hojutsu-Ryu (the Martial Art of Shooting) and runs the only Hojutsu-
 Ryu dojo in the Mid-west. He is also a student of Okinawan Shorin-Ryu kara
 te. Norm is a 2015 inductee in the USA Martial Arts Hall of Fame and Hall 
 of Hero’s. Norm is the Regional Master Instructor for the Second Amendme
 nt Foundation Training Division covering Indiana\, Michigan\, and Ohio. De
 fensive Solutions also teaches National Safety Council First Aid/CPR/AED. 
 Norm annually attends advanced training classes to stay current on new tec
 hniques allowing him to maintain an exceptionally high level of proficienc
 y. In 2018 Norm completed Instructor Development training with Clint Smith
  at Thunder Ranch\, Inc. Norm along with his wife Pat own and operates Def
 ensive Solutions LLC\, a Firearms and Use of Force training company since 
 2011 specializing in firearms\, use of force\, church\, school\, business\
 , and personal security. We are members of Community Baptist Church of Sou
 th Bend.
ATTACH;FMTTYPE=image/jpeg:https://www.nebraskashooters.com/wp-content/uplo
 ads/2019/08/designed_by_expanded_gallery2.jpg
CATEGORIES:Defensive Pistol,Everything,Guest Instructor,Southeast
LOCATION:Nebraska Shooters\, 3200 Gage Rd\, Firth\, Nebraska\, 68358\, Unit
 ed States
GEO:40.524337;-96.675525
X-APPLE-STRUCTURED-LOCATION;VALUE=URI;X-ADDRESS=3200 Gage Rd\, Firth\, Nebr
 aska\, 68358\, United States;X-APPLE-RADIUS=100;X-TITLE=Nebraska Shooters:
 geo:40.524337,-96.675525
END:VEVENT
BEGIN:VTIMEZONE
TZID:America/North_Dakota/Center
X-LIC-LOCATION:America/North_Dakota/Center
BEGIN:DAYLIGHT
DTSTART:20210314T030000
TZOFFSETFROM:-0600
TZOFFSETTO:-0500
TZNAME:CDT
END:DAYLIGHT
END:VTIMEZONE
END:VCALENDAR