BEGIN:VCALENDAR
VERSION:2.0
PRODID:-//wp-events-plugin.com//7.2.3.1//EN
TZID:America/North_Dakota/Center
X-WR-TIMEZONE:America/North_Dakota/Center
BEGIN:VEVENT
UID:540@nebraskashooters.com
DTSTART;TZID=America/North_Dakota/Center:20171124T080000
DTEND;TZID=America/North_Dakota/Center:20171124T170000
DTSTAMP:20171114T175133Z
URL:https://www.nebraskashooters.com/events/advanced-pistol-1/
SUMMARY:Advanced Pistol 1
DESCRIPTION:\n	ADVANCED PISTOL I\n\n\n\n	&nbsp\;\n\n\n\n	Advanced Pistol Cl
 ass is not a beginner&rsquo\;s course.&nbsp\; All attendees should have a 
 proficient understanding of firearms marksmanship basics/skills and/or com
 pleted a concealed carry class.&nbsp\; &nbsp\;All participants will be req
 uired to provide photo ID prior to starting the class.&nbsp\; All particip
 ants will be required to pass an immediate action skills assessment and a 
 pistol qualification course to pass the class.&nbsp\;&nbsp\;&nbsp\;\n\n\n\
 n	&nbsp\;\n\n\n\n	Course Description: Many times\, gun owners spend the ti
 me and money purchasing a firearm and attending concealed carry classes\, 
 just to find themselves let down and wanting more. Concealed carry classes
  give you\, the pistol owner\, the ability to carry a pistol concealed\, b
 ut will you have the skills necessary to defend yourself or a loved one wh
 en the time arises. Our&nbsp\;Tactical Handgun Course gives you additional
  shooting techniques as well as building the skills for later development 
 of skills.\n\n\n\n	&nbsp\;\n\n\n\n	&nbsp\;Advanced Pistol Class I is an in
 tense 1-day firearms training course that focuses on tactical movement\, r
 apid target acquisition\, and develops the student&rsquo\;s skills in imme
 diate action drills\, rapid reloading\, tactical reloading\, and the build
 ing blocks for advanced shooting skills.&nbsp\; Skills will be developed i
 n both a classroom setting and while on the range using dynamic actions wi
 th a semi-automatic pistol.\n\n\n\n	&nbsp\;\n\n\n\n	Students will be instr
 ucted in situational awareness drills as well as tactical pistol skills th
 at will enable them to quickly and efficiently engage targets\, clear malf
 unctions\, move effectively while performing multiple complex tasks.\n\n\n
 \n	&nbsp\;\n\n\n\n	Because of the level of skill that is needed to develop
  and learn these skills\, students should realize that this is a fast pace
 d and physically demanding firearms training course! Students will be requ
 ired to move\, turn\, pivot\, kneel\, and move from both a prone and supin
 e position.&nbsp\; Students should arrive for class in good physical condi
 tion\, have reliable equipment that they are familiar with and have solid 
 marksmanship/pistol handling skills established prior to attending this fi
 rearms training course.\n\n\n\n	&nbsp\;\n\n\n\n	The following firearms tra
 ining topics will be covered:\n\n\n\n	Overall Skill Assessment\n\n\n\n	Tac
 tical stance and the fundamentals of tactical movement\n\n\n\n	Rapid Sight
 /target acquisition while on the move\n\n\n\n	Close Quarter High Speed Tar
 get Engagement Exercises\n\n\n\n	Speed reloading and tactical reloads\n\n\
 n\n	Multiple Targets &ndash\; Static\n\n\n\n	Immediate action/malfunction 
 drills\n\n\n\n	Close Quarter Evaluation Exercise / Skill Assessment\n\n\n\
 n	Immediate Action/Malfunction Skill Review and Assessment\n\n\n\n	Strong 
 hand/weak hand transitional exercises.\n\n\n\n	Strong hand only shooting\,
  one hand pistol manipulations.\n\n\n\n	Mental conditioning and situationa
 l awareness (O.O.D.A. loop)\n\n\n\n	Review of firearms marksmanship fundam
 entals.\n\n\n\n	5 stages of the draw and the presentation of the pistol fr
 om the holster.\n\n\n\n	Firearm retention introduction.\n\n\n\n	Presentati
 on of the pistol from low ready and ready pistol.\n\n\n\n	Presentation of 
 the pistol from position SUL.\n\n\n\n	Tactical shooting concepts.\n\n\n\n	
 Moving from the line and lateral movement.\n\n\n\n	Scanning for threats an
 d additional target acquisition.\n\n\n\n	Engaging targets while advancing\
 , withdrawing and moving laterally.\n\n\n\n	Engaging targets from static p
 osition turns and pivots.\n\n\n\n	Engaging multiple targets from behind ba
 rricades while standing and kneeling.\n\n\n\n	Course duration: 1&nbsp\;day
  classes (Total of 8&nbsp\;hours)\n\n\n\n	Student recommended equipment: N
 ote pad &amp\; pen\, eye protection\, ear protection\, baseball type cap\,
  heavy pants\, belt\, retention holster and magazine carriers\, personal d
 efense pistol with at least 3 double stack magazines or single stack magaz
 ines.\n\n\n\n	The weapon must be reliable and&nbsp\; fully functional\, ha
 ve all safety devices\, and have no modifications that could harm other st
 udents or instructors.&nbsp\; Unsafe weapons will not be allowed on the ra
 nge.&nbsp\;\n\n\n\n	Holsters must be on the belt\, correctly fit the weapo
 n\, completely cover the trigger guard\, remain open when the weapon is re
 moved\, not allow the weapon to cover the shooter&rsquo\;s body\, and not 
 have a trigger guard retention device.&nbsp\; No thigh rigs\, cross-draw\,
  or ankle holsters etc.\n\n\n\n	Knee pads are recommended\, but not requir
 ed.\n\n\n\n	No live ammunition will be allowed in the classroom.&nbsp\;\n\
 n\n\n	No firearms will be allowed into the classroom\, until they have bee
 n inspected\, chamber flagged\, and identified as safe.&nbsp\; All firearm
 s will again be inspected prior to any drills that take place in the class
 room.&nbsp\; &nbsp\;&nbsp\;\n\n\n\n	&nbsp\;\n\n\n\n	Ammunition requirement
 s: 500 rounds (minimum)\n\n
CATEGORIES:Defensive Pistol,Everything
LOCATION:Nebraska Shooters\, 3200 Gage Rd\, Firth\, Nebraska\, 68358\, Unit
 ed States
GEO:40.524337;-96.675525
X-APPLE-STRUCTURED-LOCATION;VALUE=URI;X-ADDRESS=3200 Gage Rd\, Firth\, Nebr
 aska\, 68358\, United States;X-APPLE-RADIUS=100;X-TITLE=Nebraska Shooters:
 geo:40.524337,-96.675525
END:VEVENT
BEGIN:VTIMEZONE
TZID:America/North_Dakota/Center
X-LIC-LOCATION:America/North_Dakota/Center
BEGIN:STANDARD
DTSTART:20171105T010000
TZOFFSETFROM:-0500
TZOFFSETTO:-0600
TZNAME:CST
END:STANDARD
END:VTIMEZONE
END:VCALENDAR