BEGIN:VCALENDAR
VERSION:2.0
PRODID:-//wp-events-plugin.com//7.2.3.1//EN
TZID:America/North_Dakota/Center
X-WR-TIMEZONE:America/North_Dakota/Center
BEGIN:VEVENT
UID:488@nebraskashooters.com
DTSTART;TZID=America/North_Dakota/Center:20170825T110000
DTEND;TZID=America/North_Dakota/Center:20170826T130000
DTSTAMP:20170721T192609Z
URL:https://www.nebraskashooters.com/events/active-shooter-response-asr-ha
 ndgun/
SUMMARY:Active Shooter Response (ASR) / Handgun I
DESCRIPTION:\n	This course is being offered by Go2FirearmSafety out of Flor
 ida.\n\n\n\n	Course: Active Shooter Response (ASR)\n	Date: August 25th 201
 7\n	Times: 11:00 am &ndash\; 03:00 pm\n	Location: 1432 N. Cotner Blvd Linc
 oln\, NE 68505\n	Course: Handgun I\n	Date: August 26th 2017\n	Times: 09:00
  am &ndash\; 01:00 pm\n	Location: 3200 Gage Rd Firth\, NE 3200 Gage Rd Fir
 th\, Ne\n\n\n\n	For tickets go to:\n\n\n\n	https://go2firearmsafety.com/pr
 oduct/active-shooter-response-asr-handgun-i-august-25th-2017-lincolnne/\n\
 n\n\n	&nbsp\;\n\n
CATEGORIES:Everything
LOCATION:Nebraska Shooters\, 3200 Gage Rd\, Firth\, Nebraska\, 68358\, Unit
 ed States
GEO:40.524337;-96.675525
X-APPLE-STRUCTURED-LOCATION;VALUE=URI;X-ADDRESS=3200 Gage Rd\, Firth\, Nebr
 aska\, 68358\, United States;X-APPLE-RADIUS=100;X-TITLE=Nebraska Shooters:
 geo:40.524337,-96.675525
END:VEVENT
BEGIN:VTIMEZONE
TZID:America/North_Dakota/Center
X-LIC-LOCATION:America/North_Dakota/Center
BEGIN:DAYLIGHT
DTSTART:20170312T030000
TZOFFSETFROM:-0600
TZOFFSETTO:-0500
TZNAME:CDT
END:DAYLIGHT
END:VTIMEZONE
END:VCALENDAR