BEGIN:VCALENDAR
VERSION:2.0
PRODID:-//wp-events-plugin.com//7.2.3.1//EN
TZID:America/North_Dakota/Center
X-WR-TIMEZONE:America/North_Dakota/Center
BEGIN:VEVENT
UID:809@nebraskashooters.com
DTSTART;TZID=America/North_Dakota/Center:20191231T000000
DTEND;TZID=America/North_Dakota/Center:20191231T001500
DTSTAMP:20190430T135844Z
URL:https://www.nebraskashooters.com/events/2019-nebraska-shooters-club-me
 mbership/
SUMMARY:2019 Nebraska Shooters Club Membership
DESCRIPTION:Nebraska Shooters encourages all gun owners to get involved and
  spend some time on the range.  In order to facilitate and encourage our 
 alumni and followers to enjoy the shooting sports\, we founded the Nebrask
 a Shooters Club.  We offer opportunities to come spend time on the range 
 with fellow shooters at our open range events as well as participate in ma
 ny the other events we host.\n\nMembership is free for the first year afte
 r taking any class with Nebraska Shooters and only $20 per year after that
  unless you take another class.\n\nNebraska Shooters is an official Civili
 an Marksmanship Program affiliate and\, as such\, your membership allows y
 ou to purchase firearms through the CMP program.   We also intend to hos
 t some CMP shooting events in the near future.\n\nFor those who are not re
 cent alumni of one of our classes\, you can purchase a membership by filli
 ng out the information below.  For those who took their class over one ye
 ar ago\, you can simply log in and continue the renewal process. If you do
  not know your user name and password\, you can recover them with the link
  below.\n\nIf you do not receive a response and/or a membership card in th
 e first 24 hours\, please feel free to email us to make sure everything we
 nt through properly.  Club@Nebraskashooters.com\n\n&nbsp\;\n\n&nbsp\;
ATTACH;FMTTYPE=image/jpeg:https://www.nebraskashooters.com/wp-content/uplo
 ads/2017/04/Group-TherapySmall.bmp
CATEGORIES:Everything,Fun Shoot
LOCATION:Nebraska Shooters\, 3200 Gage Rd\, Firth\, Nebraska\, 68358\, Unit
 ed States
GEO:40.524337;-96.675525
X-APPLE-STRUCTURED-LOCATION;VALUE=URI;X-ADDRESS=3200 Gage Rd\, Firth\, Nebr
 aska\, 68358\, United States;X-APPLE-RADIUS=100;X-TITLE=Nebraska Shooters:
 geo:40.524337,-96.675525
END:VEVENT
BEGIN:VTIMEZONE
TZID:America/North_Dakota/Center
X-LIC-LOCATION:America/North_Dakota/Center
BEGIN:STANDARD
DTSTART:20191103T010000
TZOFFSETFROM:-0500
TZOFFSETTO:-0600
TZNAME:CST
END:STANDARD
END:VTIMEZONE
END:VCALENDAR